BEGIN:VCALENDAR
VERSION:2.0
PRODID:-//spbstu.ru//ical//RU
NAME:Расписание
X-WR-CALNAME:Расписание
TIMEZONE-ID:Europe/Moscow
X-WR-TIMEZONE:Europe/Moscow
BEGIN:VEVENT
UID:di03@192.168.245.71:3006
SEQUENCE:0
DTSTAMP:20260424T112243Z
DTSTART:20251027T090000Z
DTEND:20251027T104000Z
SUMMARY:Электронные приборы
LOCATION:2 к. 446
END:VEVENT
BEGIN:VEVENT
UID:mvzm@192.168.245.71:3006
SEQUENCE:0
DTSTAMP:20260424T112243Z
DTSTART:20251028T090000Z
DTEND:20251028T104000Z
SUMMARY:Физические основы электроники
LOCATION:2 к. 446
END:VEVENT
BEGIN:VEVENT
UID:uw03@192.168.245.71:3006
SEQUENCE:0
DTSTAMP:20260424T112243Z
DTSTART:20251029T090000Z
DTEND:20251029T104000Z
SUMMARY:Обратные и некорректные задачи физики
LOCATION:5 к. 104
END:VEVENT
BEGIN:VEVENT
UID:pyu1@192.168.245.71:3006
SEQUENCE:0
DTSTAMP:20260424T112243Z
DTSTART:20251029T110000Z
DTEND:20251029T124000Z
SUMMARY:Обратные и некорректные задачи физики
LOCATION:5 к. 104
END:VEVENT
BEGIN:VEVENT
UID:stas@192.168.245.71:3006
SEQUENCE:0
DTSTAMP:20260424T112243Z
DTSTART:20251030T090000Z
DTEND:20251030T104000Z
SUMMARY:Обратные и некорректные задачи физики
LOCATION:2 к. 411
END:VEVENT
END:VCALENDAR