BEGIN:VCALENDAR
VERSION:2.0
PRODID:-//spbstu.ru//ical//RU
NAME:Расписание
X-WR-CALNAME:Расписание
TIMEZONE-ID:Europe/Moscow
X-WR-TIMEZONE:Europe/Moscow
BEGIN:VEVENT
UID:3vle@192.168.245.71:3006
SEQUENCE:0
DTSTAMP:20260422T134117Z
DTSTART:20251006T050000Z
DTEND:20251006T064000Z
SUMMARY:Информационные технологии в профессиональной деятельности
LOCATION:50 уч.к 1336
END:VEVENT
BEGIN:VEVENT
UID:fr7a@192.168.245.71:3006
SEQUENCE:0
DTSTAMP:20260422T134117Z
DTSTART:20251007T050000Z
DTEND:20251007T064000Z
SUMMARY:Информационные технологии в профессиональной деятельности
LOCATION:50 уч.к 1336
END:VEVENT
BEGIN:VEVENT
UID:97ha@192.168.245.71:3006
SEQUENCE:0
DTSTAMP:20260422T134117Z
DTSTART:20251009T050000Z
DTEND:20251009T064000Z
SUMMARY:Информационные технологии в профессиональной деятельности
LOCATION:50 уч.к 1336
END:VEVENT
END:VCALENDAR