BEGIN:VCALENDAR
VERSION:2.0
PRODID:-//spbstu.ru//ical//RU
NAME:Расписание
X-WR-CALNAME:Расписание
TIMEZONE-ID:Europe/Moscow
X-WR-TIMEZONE:Europe/Moscow
BEGIN:VEVENT
UID:tvqq@192.168.245.71:3006
SEQUENCE:0
DTSTAMP:20260424T013322Z
DTSTART:20251110T050000Z
DTEND:20251110T064000Z
SUMMARY:Финансовые рынки
LOCATION:50 уч.к 1112
END:VEVENT
BEGIN:VEVENT
UID:nf9x@192.168.245.71:3006
SEQUENCE:0
DTSTAMP:20260424T013322Z
DTSTART:20251110T070000Z
DTEND:20251110T084000Z
SUMMARY:Финансовые рынки
LOCATION:50 уч.к 1112
END:VEVENT
BEGIN:VEVENT
UID:u690@192.168.245.71:3006
SEQUENCE:0
DTSTAMP:20260424T013322Z
DTSTART:20251114T150000Z
DTEND:20251114T164000Z
SUMMARY:Научно-исследовательская работа по оценке эффективности государств
 енного сектора экономики
LOCATION:50 уч.к 1231
END:VEVENT
BEGIN:VEVENT
UID:p32c@192.168.245.71:3006
SEQUENCE:0
DTSTAMP:20260424T013322Z
DTSTART:20251114T170000Z
DTEND:20251114T184000Z
SUMMARY:Научно-исследовательская работа по оценке эффективности государств
 енного сектора экономики
LOCATION:50 уч.к 1231
END:VEVENT
BEGIN:VEVENT
UID:04v0@192.168.245.71:3006
SEQUENCE:0
DTSTAMP:20260424T013322Z
DTSTART:20251115T070000Z
DTEND:20251115T084000Z
SUMMARY:Цифровые технологии финансовых рынков (на английском языке)
LOCATION:50 уч.к 1208
END:VEVENT
BEGIN:VEVENT
UID:i7yh@192.168.245.71:3006
SEQUENCE:0
DTSTAMP:20260424T013322Z
DTSTART:20251115T090000Z
DTEND:20251115T104000Z
SUMMARY:Цифровые технологии финансовых рынков (на английском языке)
LOCATION:50 уч.к 1208
END:VEVENT
END:VCALENDAR