BEGIN:VCALENDAR
VERSION:2.0
PRODID:-//spbstu.ru//ical//RU
NAME:Расписание
X-WR-CALNAME:Расписание
TIMEZONE-ID:Europe/Moscow
X-WR-TIMEZONE:Europe/Moscow
BEGIN:VEVENT
UID:kxim@192.168.245.71:3006
SEQUENCE:0
DTSTAMP:20260425T224553Z
DTSTART:20250919T070000Z
DTEND:20250919T084000Z
SUMMARY:Проектирование и реализация баз данных
LOCATION:3 к. 406
END:VEVENT
BEGIN:VEVENT
UID:79to@192.168.245.71:3006
SEQUENCE:0
DTSTAMP:20260425T224553Z
DTSTART:20250919T090000Z
DTEND:20250919T104000Z
SUMMARY:Проектирование и реализация баз данных
LOCATION:3 к. 406
END:VEVENT
BEGIN:VEVENT
UID:iedw@192.168.245.71:3006
SEQUENCE:0
DTSTAMP:20260425T224553Z
DTSTART:20250919T110000Z
DTEND:20250919T124000Z
SUMMARY:Язык Python
LOCATION:3 к. 406
END:VEVENT
BEGIN:VEVENT
UID:9elv@192.168.245.71:3006
SEQUENCE:0
DTSTAMP:20260425T224553Z
DTSTART:20250919T130000Z
DTEND:20250919T144000Z
SUMMARY:Язык Python
LOCATION:3 к. 406
END:VEVENT
END:VCALENDAR