BEGIN:VCALENDAR
VERSION:2.0
PRODID:-//spbstu.ru//ical//RU
NAME:Расписание
X-WR-CALNAME:Расписание
TIMEZONE-ID:Europe/Moscow
X-WR-TIMEZONE:Europe/Moscow
BEGIN:VEVENT
UID:5kgf@192.168.245.71:3006
SEQUENCE:0
DTSTAMP:20260423T225050Z
DTSTART:20251201T130000Z
DTEND:20251201T144000Z
SUMMARY:Научно-исследовательская работа
LOCATION:50 уч.к 1525а
END:VEVENT
BEGIN:VEVENT
UID:65fr@192.168.245.71:3006
SEQUENCE:0
DTSTAMP:20260423T225050Z
DTSTART:20251201T150000Z
DTEND:20251201T164000Z
SUMMARY:Научно-исследовательская работа по управлению устойчивым развитием
  систем\, часть 1
LOCATION:50 уч.к 1325
END:VEVENT
BEGIN:VEVENT
UID:17ta@192.168.245.71:3006
SEQUENCE:0
DTSTAMP:20260423T225050Z
DTSTART:20251203T090000Z
DTEND:20251203T104000Z
SUMMARY:Введение в профессиональную деятельность
LOCATION:50 уч.к 1249
END:VEVENT
BEGIN:VEVENT
UID:n4nb@192.168.245.71:3006
SEQUENCE:0
DTSTAMP:20260423T225050Z
DTSTART:20251204T153000Z
DTEND:20251204T170000Z
SUMMARY:Введение в профессиональную деятельность
LOCATION:DL Дистанционно
END:VEVENT
BEGIN:VEVENT
UID:vyhx@192.168.245.71:3006
SEQUENCE:0
DTSTAMP:20260423T225050Z
DTSTART:20251204T171500Z
DTEND:20251204T184500Z
SUMMARY:Образовательный форсайт
LOCATION:DL Дистанционно
END:VEVENT
BEGIN:VEVENT
UID:lctf@192.168.245.71:3006
SEQUENCE:0
DTSTAMP:20260423T225050Z
DTSTART:20251205T170000Z
DTEND:20251205T184000Z
SUMMARY:Проектная практика по вопросам сотрудничества государства и бизнес
 а в транспортной сфере
LOCATION:50 уч.к 1208
END:VEVENT
END:VCALENDAR