BEGIN:VCALENDAR
VERSION:2.0
PRODID:-//spbstu.ru//ical//RU
NAME:Расписание
X-WR-CALNAME:Расписание
TIMEZONE-ID:Europe/Moscow
X-WR-TIMEZONE:Europe/Moscow
BEGIN:VEVENT
UID:020d@192.168.245.71:3006
SEQUENCE:0
DTSTAMP:20260423T175902Z
DTSTART:20251222T070000Z
DTEND:20251222T084000Z
SUMMARY:Введение в профессиональную деятельность
LOCATION:50 уч.к 1421
END:VEVENT
BEGIN:VEVENT
UID:63ss@192.168.245.71:3006
SEQUENCE:0
DTSTAMP:20260423T175902Z
DTSTART:20251222T090000Z
DTEND:20251222T104000Z
SUMMARY:Введение в профессиональную деятельность
LOCATION:50 уч.к 1421
END:VEVENT
BEGIN:VEVENT
UID:ujyq@192.168.245.71:3006
SEQUENCE:0
DTSTAMP:20260423T175902Z
DTSTART:20251222T110000Z
DTEND:20251222T124000Z
SUMMARY:Введение в профессиональную деятельность
LOCATION:50 уч.к 1421
END:VEVENT
BEGIN:VEVENT
UID:scqf@192.168.245.71:3006
SEQUENCE:0
DTSTAMP:20260423T175902Z
DTSTART:20251223T070000Z
DTEND:20251223T084000Z
SUMMARY:Введение в профессиональную деятельность
LOCATION:50 уч.к 1421
END:VEVENT
BEGIN:VEVENT
UID:0b61@192.168.245.71:3006
SEQUENCE:0
DTSTAMP:20260423T175902Z
DTSTART:20251223T090000Z
DTEND:20251223T104000Z
SUMMARY:Введение в профессиональную деятельность
LOCATION:50 уч.к 1421
END:VEVENT
BEGIN:VEVENT
UID:h58u@192.168.245.71:3006
SEQUENCE:0
DTSTAMP:20260423T175902Z
DTSTART:20251223T110000Z
DTEND:20251223T124000Z
SUMMARY:Введение в профессиональную деятельность
LOCATION:50 уч.к 1421
END:VEVENT
BEGIN:VEVENT
UID:nhms@192.168.245.71:3006
SEQUENCE:0
DTSTAMP:20260423T175902Z
DTSTART:20251223T170000Z
DTEND:20251223T184000Z
SUMMARY:Управленческая экономика
LOCATION:50 уч.к 1418
END:VEVENT
BEGIN:VEVENT
UID:x3qd@192.168.245.71:3006
SEQUENCE:0
DTSTAMP:20260423T175902Z
DTSTART:20251224T150000Z
DTEND:20251224T164000Z
SUMMARY:Управленческая экономика
LOCATION:50 уч.к 1328
END:VEVENT
BEGIN:VEVENT
UID:xz3f@192.168.245.71:3006
SEQUENCE:0
DTSTAMP:20260423T175902Z
DTSTART:20251224T170000Z
DTEND:20251224T184000Z
SUMMARY:Управленческая экономика
LOCATION:50 уч.к 1328
END:VEVENT
BEGIN:VEVENT
UID:8drf@192.168.245.71:3006
SEQUENCE:0
DTSTAMP:20260423T175902Z
DTSTART:20251225T140000Z
DTEND:20251225T144000Z
SUMMARY:Образовательный форсайт
LOCATION:50 уч.к 1243
END:VEVENT
BEGIN:VEVENT
UID:u3ut@192.168.245.71:3006
SEQUENCE:0
DTSTAMP:20260423T175902Z
DTSTART:20251226T110000Z
DTEND:20251226T124000Z
SUMMARY:Научно-исследовательская работа по управлению устойчивым развитием
  систем\, часть 1
LOCATION:50 уч.к 1115
END:VEVENT
END:VCALENDAR