BEGIN:VCALENDAR
VERSION:2.0
PRODID:-//spbstu.ru//ical//RU
NAME:Расписание
X-WR-CALNAME:Расписание
TIMEZONE-ID:Europe/Moscow
X-WR-TIMEZONE:Europe/Moscow
BEGIN:VEVENT
UID:06gv@192.168.245.71:3006
SEQUENCE:0
DTSTAMP:20260425T115548Z
DTSTART:20250915T150000Z
DTEND:20250915T164000Z
SUMMARY:Управленческая экономика
LOCATION:50 уч.к 1232
END:VEVENT
BEGIN:VEVENT
UID:ehdj@192.168.245.71:3006
SEQUENCE:0
DTSTAMP:20260425T115548Z
DTSTART:20250915T170000Z
DTEND:20250915T184000Z
SUMMARY:Управленческая экономика
LOCATION:50 уч.к 1232
END:VEVENT
BEGIN:VEVENT
UID:wvtc@192.168.245.71:3006
SEQUENCE:0
DTSTAMP:20260425T115548Z
DTSTART:20250916T150000Z
DTEND:20250916T164000Z
SUMMARY:Управленческая экономика
LOCATION:50 уч.к 1226
END:VEVENT
BEGIN:VEVENT
UID:ceeg@192.168.245.71:3006
SEQUENCE:0
DTSTAMP:20260425T115548Z
DTSTART:20250916T170000Z
DTEND:20250916T184000Z
SUMMARY:Управленческая экономика
LOCATION:50 уч.к 1226
END:VEVENT
BEGIN:VEVENT
UID:58lc@192.168.245.71:3006
SEQUENCE:0
DTSTAMP:20260425T115548Z
DTSTART:20250919T170000Z
DTEND:20250919T184000Z
SUMMARY:Проектная практика по вопросам сотрудничества государства и бизнес
 а в транспортной сфере
LOCATION:50 уч.к 1103
END:VEVENT
END:VCALENDAR