BEGIN:VCALENDAR
VERSION:2.0
PRODID:-//spbstu.ru//ical//RU
NAME:Расписание
X-WR-CALNAME:Расписание
TIMEZONE-ID:Europe/Moscow
X-WR-TIMEZONE:Europe/Moscow
BEGIN:VEVENT
UID:2ne9@192.168.245.71:3006
SEQUENCE:0
DTSTAMP:20260422T180107Z
DTSTART:20260217T090000Z
DTEND:20260217T104000Z
SUMMARY:Семинар по экономической теории
LOCATION:50 уч.к 1242
END:VEVENT
BEGIN:VEVENT
UID:th44@192.168.245.71:3006
SEQUENCE:0
DTSTAMP:20260422T180107Z
DTSTART:20260217T110000Z
DTEND:20260217T124000Z
SUMMARY:Семинар по экономической теории
LOCATION:50 уч.к 1242
END:VEVENT
BEGIN:VEVENT
UID:5ffi@192.168.245.71:3006
SEQUENCE:0
DTSTAMP:20260422T180107Z
DTSTART:20260218T090000Z
DTEND:20260218T104000Z
SUMMARY:Управленческая экономика
LOCATION:50 уч.к 1336
END:VEVENT
BEGIN:VEVENT
UID:kd0w@192.168.245.71:3006
SEQUENCE:0
DTSTAMP:20260422T180107Z
DTSTART:20260218T090000Z
DTEND:20260218T104000Z
SUMMARY:Проектная практика по анализу и обработке данных на транспорте на 
 языке Python
LOCATION:50 уч.к 1336
END:VEVENT
BEGIN:VEVENT
UID:7ep5@192.168.245.71:3006
SEQUENCE:0
DTSTAMP:20260422T180107Z
DTSTART:20260218T090000Z
DTEND:20260218T104000Z
SUMMARY:Научно-исследовательская работа по управлению устойчивым развитием
  систем\, часть 1
LOCATION:50 уч.к 1336
END:VEVENT
BEGIN:VEVENT
UID:djiy@192.168.245.71:3006
SEQUENCE:0
DTSTAMP:20260422T180107Z
DTSTART:20260219T090000Z
DTEND:20260219T104000Z
SUMMARY:Семинар по экономической теории
LOCATION:50 уч.к 1242
END:VEVENT
BEGIN:VEVENT
UID:wgr3@192.168.245.71:3006
SEQUENCE:0
DTSTAMP:20260422T180107Z
DTSTART:20260219T110000Z
DTEND:20260219T124000Z
SUMMARY:Семинар по экономической теории
LOCATION:50 уч.к 1242
END:VEVENT
BEGIN:VEVENT
UID:vfwt@192.168.245.71:3006
SEQUENCE:0
DTSTAMP:20260422T180107Z
DTSTART:20260219T130000Z
DTEND:20260219T144000Z
SUMMARY:Семинар по экономической теории
LOCATION:50 уч.к 1428
END:VEVENT
BEGIN:VEVENT
UID:kk5o@192.168.245.71:3006
SEQUENCE:0
DTSTAMP:20260422T180107Z
DTSTART:20260219T150000Z
DTEND:20260219T164000Z
SUMMARY:Введение в профессиональную деятельность
LOCATION:50 уч.к 1248
END:VEVENT
END:VCALENDAR