BEGIN:VCALENDAR
VERSION:2.0
PRODID:-//spbstu.ru//ical//RU
NAME:Расписание
X-WR-CALNAME:Расписание
TIMEZONE-ID:Europe/Moscow
X-WR-TIMEZONE:Europe/Moscow
BEGIN:VEVENT
UID:x44a@192.168.245.71:3006
SEQUENCE:0
DTSTAMP:20260424T082335Z
DTSTART:20251028T090000Z
DTEND:20251028T104000Z
SUMMARY:Надежность машин
LOCATION:ТВН 309ВШТ
END:VEVENT
BEGIN:VEVENT
UID:6o6k@192.168.245.71:3006
SEQUENCE:0
DTSTAMP:20260424T082335Z
DTSTART:20251028T110000Z
DTEND:20251028T124000Z
SUMMARY:Конструкция НТТМ (силовая установка\, трансмиссия\, электрооборудо
 вание)
LOCATION:ТВН 302ВШТ
END:VEVENT
BEGIN:VEVENT
UID:klj7@192.168.245.71:3006
SEQUENCE:0
DTSTAMP:20260424T082335Z
DTSTART:20251028T130000Z
DTEND:20251028T144000Z
SUMMARY:Конструкция НТТМ (силовая установка\, трансмиссия\, электрооборудо
 вание)
LOCATION:ТВН 302ВШТ
END:VEVENT
BEGIN:VEVENT
UID:3y4q@192.168.245.71:3006
SEQUENCE:0
DTSTAMP:20260424T082335Z
DTSTART:20251029T090000Z
DTEND:20251029T104000Z
SUMMARY:Конструкция НТТС
LOCATION:ТВН 302ВШТ
END:VEVENT
BEGIN:VEVENT
UID:2e9o@192.168.245.71:3006
SEQUENCE:0
DTSTAMP:20260424T082335Z
DTSTART:20251029T110000Z
DTEND:20251029T124000Z
SUMMARY:Компоновка НТТМ
LOCATION:ТВН 303ВШТ
END:VEVENT
BEGIN:VEVENT
UID:9d95@192.168.245.71:3006
SEQUENCE:0
DTSTAMP:20260424T082335Z
DTSTART:20251029T130000Z
DTEND:20251029T144000Z
SUMMARY:Конструкция НТТС
LOCATION:ТВН 301ВШТ
END:VEVENT
BEGIN:VEVENT
UID:2wdr@192.168.245.71:3006
SEQUENCE:0
DTSTAMP:20260424T082335Z
DTSTART:20251030T070000Z
DTEND:20251030T084000Z
SUMMARY:Компоновка НТТМ
LOCATION:ТВН 303ВШТ
END:VEVENT
BEGIN:VEVENT
UID:pdi5@192.168.245.71:3006
SEQUENCE:0
DTSTAMP:20260424T082335Z
DTSTART:20251030T090000Z
DTEND:20251030T104000Z
SUMMARY:Компоновка НТТМ
LOCATION:ТВН 304ВШТ
END:VEVENT
BEGIN:VEVENT
UID:qdjw@192.168.245.71:3006
SEQUENCE:0
DTSTAMP:20260424T082335Z
DTSTART:20251030T110000Z
DTEND:20251030T124000Z
SUMMARY:Конструкция НТТС
LOCATION:ТВН 301ВШТ
END:VEVENT
END:VCALENDAR