BEGIN:VCALENDAR
VERSION:2.0
PRODID:-//spbstu.ru//ical//RU
NAME:Расписание
X-WR-CALNAME:Расписание
TIMEZONE-ID:Europe/Moscow
X-WR-TIMEZONE:Europe/Moscow
BEGIN:VEVENT
UID:vw24@192.168.245.71:3006
SEQUENCE:0
DTSTAMP:20260422T140818Z
DTSTART:20260202T110000Z
DTEND:20260202T124000Z
SUMMARY:Проектирование НТТС
LOCATION:ТВН 301ВШТ
END:VEVENT
BEGIN:VEVENT
UID:xr3i@192.168.245.71:3006
SEQUENCE:0
DTSTAMP:20260422T140818Z
DTSTART:20260203T070000Z
DTEND:20260203T084000Z
SUMMARY:Проектирование НТТС
LOCATION:ТВН 301ВШТ
END:VEVENT
BEGIN:VEVENT
UID:asie@192.168.245.71:3006
SEQUENCE:0
DTSTAMP:20260422T140818Z
DTSTART:20260204T070000Z
DTEND:20260204T084000Z
SUMMARY:Конструкция НТТС
LOCATION:ТВН 303ВШТ
END:VEVENT
BEGIN:VEVENT
UID:194m@192.168.245.71:3006
SEQUENCE:0
DTSTAMP:20260422T140818Z
DTSTART:20260204T090000Z
DTEND:20260204T104000Z
SUMMARY:Курсовое проектирование трансмиссии гусеничной машины
LOCATION:ТВН 302ВШТ
END:VEVENT
BEGIN:VEVENT
UID:cy2j@192.168.245.71:3006
SEQUENCE:0
DTSTAMP:20260422T140818Z
DTSTART:20260204T110000Z
DTEND:20260204T124000Z
SUMMARY:Курсовое проектирование трансмиссии гусеничной машины
LOCATION:ТВН 302ВШТ
END:VEVENT
BEGIN:VEVENT
UID:bw15@192.168.245.71:3006
SEQUENCE:0
DTSTAMP:20260422T140818Z
DTSTART:20260205T070000Z
DTEND:20260205T084000Z
SUMMARY:Конструкция НТТМ (ходовая часть и системы управления)
LOCATION:ТВН 302ВШТ
END:VEVENT
BEGIN:VEVENT
UID:yp06@192.168.245.71:3006
SEQUENCE:0
DTSTAMP:20260422T140818Z
DTSTART:20260205T090000Z
DTEND:20260205T104000Z
SUMMARY:Проектирование наземных транспортных машин
LOCATION:ТВН 302ВШТ
END:VEVENT
BEGIN:VEVENT
UID:bssn@192.168.245.71:3006
SEQUENCE:0
DTSTAMP:20260422T140818Z
DTSTART:20260205T110000Z
DTEND:20260205T124000Z
SUMMARY:Конструкция НТТС
LOCATION:ТВН 309ВШТ
END:VEVENT
END:VCALENDAR