BEGIN:VCALENDAR
VERSION:2.0
PRODID:-//spbstu.ru//ical//RU
NAME:Расписание
X-WR-CALNAME:Расписание
TIMEZONE-ID:Europe/Moscow
X-WR-TIMEZONE:Europe/Moscow
BEGIN:VEVENT
UID:cgfu@192.168.245.71:3006
SEQUENCE:0
DTSTAMP:20260421T235247Z
DTSTART:20260310T070000Z
DTEND:20260310T084000Z
SUMMARY:Проектирование НТТС
LOCATION:ТВН 301ВШТ
END:VEVENT
BEGIN:VEVENT
UID:qqhp@192.168.245.71:3006
SEQUENCE:0
DTSTAMP:20260421T235247Z
DTSTART:20260311T090000Z
DTEND:20260311T104000Z
SUMMARY:Курсовое проектирование трансмиссии гусеничной машины
LOCATION:ТВН 302ВШТ
END:VEVENT
BEGIN:VEVENT
UID:qcxk@192.168.245.71:3006
SEQUENCE:0
DTSTAMP:20260421T235247Z
DTSTART:20260311T110000Z
DTEND:20260311T124000Z
SUMMARY:Курсовое проектирование трансмиссии гусеничной машины
LOCATION:ТВН 302ВШТ
END:VEVENT
BEGIN:VEVENT
UID:ki8u@192.168.245.71:3006
SEQUENCE:0
DTSTAMP:20260421T235247Z
DTSTART:20260312T070000Z
DTEND:20260312T084000Z
SUMMARY:Конструкция НТТМ (ходовая часть и системы управления)
LOCATION:ТВН 302ВШТ
END:VEVENT
END:VCALENDAR