BEGIN:VCALENDAR
VERSION:2.0
PRODID:-//spbstu.ru//ical//RU
NAME:Расписание
X-WR-CALNAME:Расписание
TIMEZONE-ID:Europe/Moscow
X-WR-TIMEZONE:Europe/Moscow
BEGIN:VEVENT
UID:3yph@192.168.245.71:3006
SEQUENCE:0
DTSTAMP:20260421T150411Z
DTSTART:20260511T110000Z
DTEND:20260511T124000Z
SUMMARY:Проектирование НТТС
LOCATION:ТВН 301ВШТ
END:VEVENT
BEGIN:VEVENT
UID:7gms@192.168.245.71:3006
SEQUENCE:0
DTSTAMP:20260421T150411Z
DTSTART:20260512T070000Z
DTEND:20260512T084000Z
SUMMARY:Проектирование НТТС
LOCATION:ТВН 301ВШТ
END:VEVENT
BEGIN:VEVENT
UID:knt1@192.168.245.71:3006
SEQUENCE:0
DTSTAMP:20260421T150411Z
DTSTART:20260513T070000Z
DTEND:20260513T084000Z
SUMMARY:Конструкция НТТС
LOCATION:ТВН 303ВШТ
END:VEVENT
BEGIN:VEVENT
UID:6hzb@192.168.245.71:3006
SEQUENCE:0
DTSTAMP:20260421T150411Z
DTSTART:20260513T090000Z
DTEND:20260513T104000Z
SUMMARY:Курсовое проектирование трансмиссии гусеничной машины
LOCATION:ТВН 302ВШТ
END:VEVENT
BEGIN:VEVENT
UID:xaub@192.168.245.71:3006
SEQUENCE:0
DTSTAMP:20260421T150411Z
DTSTART:20260514T070000Z
DTEND:20260514T084000Z
SUMMARY:Конструкция НТТМ (ходовая часть и системы управления)
LOCATION:ТВН 302ВШТ
END:VEVENT
BEGIN:VEVENT
UID:wr98@192.168.245.71:3006
SEQUENCE:0
DTSTAMP:20260421T150411Z
DTSTART:20260514T110000Z
DTEND:20260514T124000Z
SUMMARY:Конструкция НТТС
LOCATION:ТВН 309ВШТ
END:VEVENT
END:VCALENDAR