BEGIN:VCALENDAR
VERSION:2.0
PRODID:-//spbstu.ru//ical//RU
NAME:Расписание
X-WR-CALNAME:Расписание
TIMEZONE-ID:Europe/Moscow
X-WR-TIMEZONE:Europe/Moscow
BEGIN:VEVENT
UID:oknx@192.168.245.71:3006
SEQUENCE:0
DTSTAMP:20260421T164505Z
DTSTART:20260317T070000Z
DTEND:20260317T084000Z
SUMMARY:Режимы работы электрооборудования электростанций и подстанций
LOCATION:5 к. 208
END:VEVENT
BEGIN:VEVENT
UID:6r5r@192.168.245.71:3006
SEQUENCE:0
DTSTAMP:20260421T164505Z
DTSTART:20260320T070000Z
DTEND:20260320T084000Z
SUMMARY:Электрические станции и подстанции
LOCATION:5 к. 208
END:VEVENT
BEGIN:VEVENT
UID:lwif@192.168.245.71:3006
SEQUENCE:0
DTSTAMP:20260421T164505Z
DTSTART:20260320T090000Z
DTEND:20260320T104000Z
SUMMARY:Электрические станции и подстанции
LOCATION:5 к. 208
END:VEVENT
END:VCALENDAR