BEGIN:VCALENDAR
VERSION:2.0
PRODID:-//spbstu.ru//ical//RU
NAME:Расписание
X-WR-CALNAME:Расписание
TIMEZONE-ID:Europe/Moscow
X-WR-TIMEZONE:Europe/Moscow
BEGIN:VEVENT
UID:pssu@192.168.245.71:3006
SEQUENCE:0
DTSTAMP:20260425T172028Z
DTSTART:20250920T070000Z
DTEND:20250920T084000Z
SUMMARY:Технологии проектирования цифровых продуктов
LOCATION:16 к. 315
END:VEVENT
BEGIN:VEVENT
UID:jd0v@192.168.245.71:3006
SEQUENCE:0
DTSTAMP:20260425T172028Z
DTSTART:20250920T110000Z
DTEND:20250920T124000Z
SUMMARY:Программная инженерия
LOCATION:16 к. 414
END:VEVENT
BEGIN:VEVENT
UID:wjsd@192.168.245.71:3006
SEQUENCE:0
DTSTAMP:20260425T172028Z
DTSTART:20250920T130000Z
DTEND:20250920T144000Z
SUMMARY:Программная инженерия
LOCATION:16 к. 309
END:VEVENT
END:VCALENDAR