BEGIN:VCALENDAR
VERSION:2.0
PRODID:-//spbstu.ru//ical//RU
NAME:Расписание
X-WR-CALNAME:Расписание
TIMEZONE-ID:Europe/Moscow
X-WR-TIMEZONE:Europe/Moscow
BEGIN:VEVENT
UID:fvej@192.168.245.71:3006
SEQUENCE:0
DTSTAMP:20260421T134732Z
DTSTART:20260416T130000Z
DTEND:20260416T144000Z
SUMMARY:Проектирование и построение микросервисных систем
LOCATION:16 к. 315
END:VEVENT
BEGIN:VEVENT
UID:cx0g@192.168.245.71:3006
SEQUENCE:0
DTSTAMP:20260421T134732Z
DTSTART:20260418T070000Z
DTEND:20260418T084000Z
SUMMARY:Проектирование и построение микросервисных систем
LOCATION:16 к. 315
END:VEVENT
END:VCALENDAR