BEGIN:VCALENDAR
VERSION:2.0
PRODID:-//spbstu.ru//ical//RU
NAME:Расписание
X-WR-CALNAME:Расписание
TIMEZONE-ID:Europe/Moscow
X-WR-TIMEZONE:Europe/Moscow
BEGIN:VEVENT
UID:zsg4@192.168.245.71:3006
SEQUENCE:0
DTSTAMP:20260424T131203Z
DTSTART:20251110T110000Z
DTEND:20251110T124000Z
SUMMARY:История России
LOCATION:ГК-2 405
END:VEVENT
BEGIN:VEVENT
UID:jd92@192.168.245.71:3006
SEQUENCE:0
DTSTAMP:20260424T131203Z
DTSTART:20251110T130000Z
DTEND:20251110T144000Z
SUMMARY:История России
LOCATION:ГЗ 220
END:VEVENT
BEGIN:VEVENT
UID:1qyq@192.168.245.71:3006
SEQUENCE:0
DTSTAMP:20260424T131203Z
DTSTART:20251111T070000Z
DTEND:20251111T084000Z
SUMMARY:История России
LOCATION:ГЗ 182
END:VEVENT
BEGIN:VEVENT
UID:xb06@192.168.245.71:3006
SEQUENCE:0
DTSTAMP:20260424T131203Z
DTSTART:20251111T090000Z
DTEND:20251111T104000Z
SUMMARY:История России
LOCATION:ГК-2 509
END:VEVENT
BEGIN:VEVENT
UID:drrw@192.168.245.71:3006
SEQUENCE:0
DTSTAMP:20260424T131203Z
DTSTART:20251111T110000Z
DTEND:20251111T124000Z
SUMMARY:История России
LOCATION:ГК-2 509
END:VEVENT
BEGIN:VEVENT
UID:de10@192.168.245.71:3006
SEQUENCE:0
DTSTAMP:20260424T131203Z
DTSTART:20251112T070000Z
DTEND:20251112T084000Z
SUMMARY:История России
LOCATION:ГЗ 182
END:VEVENT
BEGIN:VEVENT
UID:frqz@192.168.245.71:3006
SEQUENCE:0
DTSTAMP:20260424T131203Z
DTSTART:20251112T090000Z
DTEND:20251112T104000Z
SUMMARY:История России
LOCATION:ГК-2 405
END:VEVENT
BEGIN:VEVENT
UID:uvke@192.168.245.71:3006
SEQUENCE:0
DTSTAMP:20260424T131203Z
DTSTART:20251112T110000Z
DTEND:20251112T124000Z
SUMMARY:История России
LOCATION:ГК-2 405
END:VEVENT
BEGIN:VEVENT
UID:j5k6@192.168.245.71:3006
SEQUENCE:0
DTSTAMP:20260424T131203Z
DTSTART:20251114T110000Z
DTEND:20251114T124000Z
SUMMARY:История России
LOCATION:ГК-2 509
END:VEVENT
END:VCALENDAR