BEGIN:VCALENDAR
VERSION:2.0
PRODID:-//spbstu.ru//ical//RU
NAME:Расписание
X-WR-CALNAME:Расписание
TIMEZONE-ID:Europe/Moscow
X-WR-TIMEZONE:Europe/Moscow
BEGIN:VEVENT
UID:h880@192.168.245.71:3006
SEQUENCE:0
DTSTAMP:20260421T051459Z
DTSTART:20260323T110000Z
DTEND:20260323T124000Z
SUMMARY:История России
LOCATION:ГК-2 509
END:VEVENT
BEGIN:VEVENT
UID:0hz8@192.168.245.71:3006
SEQUENCE:0
DTSTAMP:20260421T051459Z
DTSTART:20260323T130000Z
DTEND:20260323T144000Z
SUMMARY:История России
LOCATION:50 уч.к 1233
END:VEVENT
BEGIN:VEVENT
UID:l1af@192.168.245.71:3006
SEQUENCE:0
DTSTAMP:20260421T051459Z
DTSTART:20260324T090000Z
DTEND:20260324T104000Z
SUMMARY:История России
LOCATION:ГЗ 239
END:VEVENT
BEGIN:VEVENT
UID:a8on@192.168.245.71:3006
SEQUENCE:0
DTSTAMP:20260421T051459Z
DTSTART:20260324T130000Z
DTEND:20260324T144000Z
SUMMARY:История России
LOCATION:ГК-2 509
END:VEVENT
BEGIN:VEVENT
UID:9xph@192.168.245.71:3006
SEQUENCE:0
DTSTAMP:20260421T051459Z
DTSTART:20260325T070000Z
DTEND:20260325T084000Z
SUMMARY:История России
LOCATION:3 к. 501
END:VEVENT
BEGIN:VEVENT
UID:g0xg@192.168.245.71:3006
SEQUENCE:0
DTSTAMP:20260421T051459Z
DTSTART:20260325T070000Z
DTEND:20260325T084000Z
SUMMARY:История России
LOCATION:3 к. 501
END:VEVENT
BEGIN:VEVENT
UID:hfb4@192.168.245.71:3006
SEQUENCE:0
DTSTAMP:20260421T051459Z
DTSTART:20260325T090000Z
DTEND:20260325T104000Z
SUMMARY:История России
LOCATION:3 к. 501
END:VEVENT
BEGIN:VEVENT
UID:p1fc@192.168.245.71:3006
SEQUENCE:0
DTSTAMP:20260421T051459Z
DTSTART:20260325T090000Z
DTEND:20260325T104000Z
SUMMARY:История России
LOCATION:3 к. 501
END:VEVENT
BEGIN:VEVENT
UID:rgcu@192.168.245.71:3006
SEQUENCE:0
DTSTAMP:20260421T051459Z
DTSTART:20260325T110000Z
DTEND:20260325T124000Z
SUMMARY:История России
LOCATION:3 к. 501
END:VEVENT
BEGIN:VEVENT
UID:j4ih@192.168.245.71:3006
SEQUENCE:0
DTSTAMP:20260421T051459Z
DTSTART:20260325T110000Z
DTEND:20260325T124000Z
SUMMARY:История России
LOCATION:3 к. 501
END:VEVENT
BEGIN:VEVENT
UID:qs2r@192.168.245.71:3006
SEQUENCE:0
DTSTAMP:20260421T051459Z
DTSTART:20260327T110000Z
DTEND:20260327T124000Z
SUMMARY:История России
LOCATION:ГК-2 509
END:VEVENT
BEGIN:VEVENT
UID:38c0@192.168.245.71:3006
SEQUENCE:0
DTSTAMP:20260421T051459Z
DTSTART:20260328T090000Z
DTEND:20260328T104000Z
SUMMARY:История России
LOCATION:3 к. 501
END:VEVENT
BEGIN:VEVENT
UID:8z4a@192.168.245.71:3006
SEQUENCE:0
DTSTAMP:20260421T051459Z
DTSTART:20260328T090000Z
DTEND:20260328T104000Z
SUMMARY:История России
LOCATION:3 к. 501
END:VEVENT
BEGIN:VEVENT
UID:q7fy@192.168.245.71:3006
SEQUENCE:0
DTSTAMP:20260421T051459Z
DTSTART:20260328T110000Z
DTEND:20260328T124000Z
SUMMARY:История России
LOCATION:3 к. 501
END:VEVENT
END:VCALENDAR