BEGIN:VCALENDAR
VERSION:2.0
PRODID:-//spbstu.ru//ical//RU
NAME:Расписание
X-WR-CALNAME:Расписание
TIMEZONE-ID:Europe/Moscow
X-WR-TIMEZONE:Europe/Moscow
BEGIN:VEVENT
UID:n0kl@192.168.245.71:3006
SEQUENCE:0
DTSTAMP:20260420T203818Z
DTSTART:20260420T110000Z
DTEND:20260420T124000Z
SUMMARY:История России
LOCATION:ГК-2 509
END:VEVENT
BEGIN:VEVENT
UID:n4oz@192.168.245.71:3006
SEQUENCE:0
DTSTAMP:20260420T203818Z
DTSTART:20260420T130000Z
DTEND:20260420T144000Z
SUMMARY:История России
LOCATION:50 уч.к 1233
END:VEVENT
BEGIN:VEVENT
UID:m411@192.168.245.71:3006
SEQUENCE:0
DTSTAMP:20260420T203818Z
DTSTART:20260422T070000Z
DTEND:20260422T084000Z
SUMMARY:История России
LOCATION:3 к. 501
END:VEVENT
BEGIN:VEVENT
UID:oboq@192.168.245.71:3006
SEQUENCE:0
DTSTAMP:20260420T203818Z
DTSTART:20260422T070000Z
DTEND:20260422T084000Z
SUMMARY:История России
LOCATION:3 к. 501
END:VEVENT
BEGIN:VEVENT
UID:rq9n@192.168.245.71:3006
SEQUENCE:0
DTSTAMP:20260420T203818Z
DTSTART:20260422T090000Z
DTEND:20260422T104000Z
SUMMARY:История России
LOCATION:3 к. 501
END:VEVENT
BEGIN:VEVENT
UID:7sjl@192.168.245.71:3006
SEQUENCE:0
DTSTAMP:20260420T203818Z
DTSTART:20260422T090000Z
DTEND:20260422T104000Z
SUMMARY:История России
LOCATION:3 к. 501
END:VEVENT
BEGIN:VEVENT
UID:lyhy@192.168.245.71:3006
SEQUENCE:0
DTSTAMP:20260420T203818Z
DTSTART:20260422T110000Z
DTEND:20260422T124000Z
SUMMARY:История России
LOCATION:3 к. 501
END:VEVENT
BEGIN:VEVENT
UID:hi4x@192.168.245.71:3006
SEQUENCE:0
DTSTAMP:20260420T203818Z
DTSTART:20260422T110000Z
DTEND:20260422T124000Z
SUMMARY:История России
LOCATION:3 к. 501
END:VEVENT
BEGIN:VEVENT
UID:m2u8@192.168.245.71:3006
SEQUENCE:0
DTSTAMP:20260420T203818Z
DTSTART:20260425T090000Z
DTEND:20260425T104000Z
SUMMARY:История России
LOCATION:3 к. 501
END:VEVENT
BEGIN:VEVENT
UID:whuq@192.168.245.71:3006
SEQUENCE:0
DTSTAMP:20260420T203818Z
DTSTART:20260425T090000Z
DTEND:20260425T104000Z
SUMMARY:История России
LOCATION:3 к. 501
END:VEVENT
BEGIN:VEVENT
UID:jxie@192.168.245.71:3006
SEQUENCE:0
DTSTAMP:20260420T203818Z
DTSTART:20260425T110000Z
DTEND:20260425T124000Z
SUMMARY:История России
LOCATION:3 к. 501
END:VEVENT
END:VCALENDAR