BEGIN:VCALENDAR
VERSION:2.0
PRODID:-//spbstu.ru//ical//RU
NAME:Расписание
X-WR-CALNAME:Расписание
TIMEZONE-ID:Europe/Moscow
X-WR-TIMEZONE:Europe/Moscow
BEGIN:VEVENT
UID:22t7@192.168.245.71:3006
SEQUENCE:0
DTSTAMP:20260422T221719Z
DTSTART:20251216T070000Z
DTEND:20251216T084000Z
SUMMARY:Иностранный язык: Базовый курс
LOCATION:1 к. 417
END:VEVENT
BEGIN:VEVENT
UID:zmm1@192.168.245.71:3006
SEQUENCE:0
DTSTAMP:20260422T221719Z
DTSTART:20251216T090000Z
DTEND:20251216T104000Z
SUMMARY:Иностранный язык: Базовый курс
LOCATION:1 к. 417
END:VEVENT
BEGIN:VEVENT
UID:931b@192.168.245.71:3006
SEQUENCE:0
DTSTAMP:20260422T221719Z
DTSTART:20251216T110000Z
DTEND:20251216T124000Z
SUMMARY:Иностранный язык: Базовый курс
LOCATION:1 к. 419
END:VEVENT
BEGIN:VEVENT
UID:6p26@192.168.245.71:3006
SEQUENCE:0
DTSTAMP:20260422T221719Z
DTSTART:20251217T070000Z
DTEND:20251217T074500Z
SUMMARY:Иностранный язык: Базовый курс
LOCATION:1 к. 414
END:VEVENT
BEGIN:VEVENT
UID:njz2@192.168.245.71:3006
SEQUENCE:0
DTSTAMP:20260422T221719Z
DTSTART:20251217T080000Z
DTEND:20251217T110000Z
SUMMARY:Иностранный язык: Базовый курс
LOCATION:1 к. 414
END:VEVENT
BEGIN:VEVENT
UID:0o64@192.168.245.71:3006
SEQUENCE:0
DTSTAMP:20260422T221719Z
DTSTART:20251217T110000Z
DTEND:20251217T114500Z
SUMMARY:Иностранный язык: Базовый курс
LOCATION:1 к. 414
END:VEVENT
BEGIN:VEVENT
UID:wl4j@192.168.245.71:3006
SEQUENCE:0
DTSTAMP:20260422T221719Z
DTSTART:20251217T120000Z
DTEND:20251217T150000Z
SUMMARY:Иностранный язык: Базовый курс
LOCATION:1 к. 414
END:VEVENT
BEGIN:VEVENT
UID:e6bw@192.168.245.71:3006
SEQUENCE:0
DTSTAMP:20260422T221719Z
DTSTART:20251218T070000Z
DTEND:20251218T074500Z
SUMMARY:Иностранный язык: Базовый курс
LOCATION:1 к. 419
END:VEVENT
BEGIN:VEVENT
UID:kwmk@192.168.245.71:3006
SEQUENCE:0
DTSTAMP:20260422T221719Z
DTSTART:20251218T080000Z
DTEND:20251218T110000Z
SUMMARY:Иностранный язык: Базовый курс
LOCATION:1 к. 419
END:VEVENT
BEGIN:VEVENT
UID:l60k@192.168.245.71:3006
SEQUENCE:0
DTSTAMP:20260422T221719Z
DTSTART:20251218T120000Z
DTEND:20251218T140000Z
SUMMARY:Иностранный язык: Базовый курс
LOCATION:1 к. 414
END:VEVENT
BEGIN:VEVENT
UID:2xjb@192.168.245.71:3006
SEQUENCE:0
DTSTAMP:20260422T221719Z
DTSTART:20251219T060000Z
DTEND:20251219T064500Z
SUMMARY:Иностранный язык: Базовый курс
LOCATION:1 к. 414
END:VEVENT
BEGIN:VEVENT
UID:yuk4@192.168.245.71:3006
SEQUENCE:0
DTSTAMP:20260422T221719Z
DTSTART:20251219T060000Z
DTEND:20251219T064500Z
SUMMARY:Иностранный язык: Базовый курс
LOCATION:1 к. 414
END:VEVENT
BEGIN:VEVENT
UID:lvu2@192.168.245.71:3006
SEQUENCE:0
DTSTAMP:20260422T221719Z
DTSTART:20251219T070000Z
DTEND:20251219T090000Z
SUMMARY:Иностранный язык: Базовый курс
LOCATION:1 к. 414
END:VEVENT
BEGIN:VEVENT
UID:c01m@192.168.245.71:3006
SEQUENCE:0
DTSTAMP:20260422T221719Z
DTSTART:20251219T090000Z
DTEND:20251219T110000Z
SUMMARY:Иностранный язык: Базовый курс
LOCATION:1 к. 414
END:VEVENT
BEGIN:VEVENT
UID:mtxi@192.168.245.71:3006
SEQUENCE:0
DTSTAMP:20260422T221719Z
DTSTART:20251219T110000Z
DTEND:20251219T130000Z
SUMMARY:Иностранный язык: Базовый курс
LOCATION:1 к. 414
END:VEVENT
BEGIN:VEVENT
UID:ujy8@192.168.245.71:3006
SEQUENCE:0
DTSTAMP:20260422T221719Z
DTSTART:20251220T070000Z
DTEND:20251220T074500Z
SUMMARY:Иностранный язык: Базовый курс
LOCATION:1 к. 414
END:VEVENT
BEGIN:VEVENT
UID:x0mp@192.168.245.71:3006
SEQUENCE:0
DTSTAMP:20260422T221719Z
DTSTART:20251220T080000Z
DTEND:20251220T110000Z
SUMMARY:Иностранный язык: Базовый курс
LOCATION:1 к. 414
END:VEVENT
BEGIN:VEVENT
UID:815t@192.168.245.71:3006
SEQUENCE:0
DTSTAMP:20260422T221719Z
DTSTART:20251220T110000Z
DTEND:20251220T114500Z
SUMMARY:Иностранный язык: Базовый курс
LOCATION:1 к. 414
END:VEVENT
BEGIN:VEVENT
UID:7unn@192.168.245.71:3006
SEQUENCE:0
DTSTAMP:20260422T221719Z
DTSTART:20251220T120000Z
DTEND:20251220T150000Z
SUMMARY:Иностранный язык: Базовый курс
LOCATION:1 к. 414
END:VEVENT
END:VCALENDAR