BEGIN:VCALENDAR
VERSION:2.0
PRODID:-//spbstu.ru//ical//RU
NAME:Расписание
X-WR-CALNAME:Расписание
TIMEZONE-ID:Europe/Moscow
X-WR-TIMEZONE:Europe/Moscow
BEGIN:VEVENT
UID:qn4j@192.168.245.71:3006
SEQUENCE:0
DTSTAMP:20260422T073826Z
DTSTART:20260121T070000Z
DTEND:20260121T084000Z
SUMMARY:Иностранный язык в профессиональной коммуникации\, Английский
LOCATION:1 к. 413
END:VEVENT
BEGIN:VEVENT
UID:3wae@192.168.245.71:3006
SEQUENCE:0
DTSTAMP:20260422T073826Z
DTSTART:20260121T090000Z
DTEND:20260121T104000Z
SUMMARY:Иностранный язык в профессиональной коммуникации\, Английский
LOCATION:1 к. 413
END:VEVENT
BEGIN:VEVENT
UID:6kur@192.168.245.71:3006
SEQUENCE:0
DTSTAMP:20260422T073826Z
DTSTART:20260121T110000Z
DTEND:20260121T124000Z
SUMMARY:Иностранный язык в профессиональной коммуникации\, Английский
LOCATION:1 к. 413
END:VEVENT
BEGIN:VEVENT
UID:i4i9@192.168.245.71:3006
SEQUENCE:0
DTSTAMP:20260422T073826Z
DTSTART:20260122T070000Z
DTEND:20260122T084000Z
SUMMARY:Иностранный язык в профессиональной коммуникации\, Английский
LOCATION:1 к. 413
END:VEVENT
BEGIN:VEVENT
UID:udsk@192.168.245.71:3006
SEQUENCE:0
DTSTAMP:20260422T073826Z
DTSTART:20260122T090000Z
DTEND:20260122T104000Z
SUMMARY:Иностранный язык в профессиональной коммуникации\, Английский
LOCATION:1 к. 413
END:VEVENT
BEGIN:VEVENT
UID:vyev@192.168.245.71:3006
SEQUENCE:0
DTSTAMP:20260422T073826Z
DTSTART:20260122T110000Z
DTEND:20260122T124000Z
SUMMARY:Иностранный язык в профессиональной коммуникации\, Английский
LOCATION:1 к. 425
END:VEVENT
BEGIN:VEVENT
UID:96uq@192.168.245.71:3006
SEQUENCE:0
DTSTAMP:20260422T073826Z
DTSTART:20260123T070000Z
DTEND:20260123T084000Z
SUMMARY:Иностранный язык: Базовый курс
LOCATION:1 к. 41
END:VEVENT
BEGIN:VEVENT
UID:yxu2@192.168.245.71:3006
SEQUENCE:0
DTSTAMP:20260422T073826Z
DTSTART:20260123T070000Z
DTEND:20260123T084000Z
SUMMARY:Иностранный язык: Базовый курс
LOCATION:1 к. 41
END:VEVENT
BEGIN:VEVENT
UID:xvq0@192.168.245.71:3006
SEQUENCE:0
DTSTAMP:20260422T073826Z
DTSTART:20260123T090000Z
DTEND:20260123T104000Z
SUMMARY:Иностранный язык: Базовый курс
LOCATION:1 к. 41
END:VEVENT
BEGIN:VEVENT
UID:kgd0@192.168.245.71:3006
SEQUENCE:0
DTSTAMP:20260422T073826Z
DTSTART:20260123T090000Z
DTEND:20260123T104000Z
SUMMARY:Иностранный язык: Базовый курс
LOCATION:1 к. 41
END:VEVENT
BEGIN:VEVENT
UID:jpex@192.168.245.71:3006
SEQUENCE:0
DTSTAMP:20260422T073826Z
DTSTART:20260123T110000Z
DTEND:20260123T124000Z
SUMMARY:Иностранный язык: Базовый курс
LOCATION:1 к. 41
END:VEVENT
BEGIN:VEVENT
UID:emst@192.168.245.71:3006
SEQUENCE:0
DTSTAMP:20260422T073826Z
DTSTART:20260124T070000Z
DTEND:20260124T084000Z
SUMMARY:Иностранный язык: Базовый курс
LOCATION:1 к. 41
END:VEVENT
BEGIN:VEVENT
UID:qomt@192.168.245.71:3006
SEQUENCE:0
DTSTAMP:20260422T073826Z
DTSTART:20260124T090000Z
DTEND:20260124T104000Z
SUMMARY:Иностранный язык: Базовый курс
LOCATION:1 к. 41
END:VEVENT
BEGIN:VEVENT
UID:jfco@192.168.245.71:3006
SEQUENCE:0
DTSTAMP:20260422T073826Z
DTSTART:20260124T090000Z
DTEND:20260124T104000Z
SUMMARY:Иностранный язык: Базовый курс
LOCATION:1 к. 41
END:VEVENT
END:VCALENDAR