BEGIN:VCALENDAR
VERSION:2.0
PRODID:-//spbstu.ru//ical//RU
NAME:Расписание
X-WR-CALNAME:Расписание
TIMEZONE-ID:Europe/Moscow
X-WR-TIMEZONE:Europe/Moscow
BEGIN:VEVENT
UID:g6j5@192.168.245.71:3006
SEQUENCE:0
DTSTAMP:20260424T003902Z
DTSTART:20251202T070000Z
DTEND:20251202T084000Z
SUMMARY:Квантовая механика
LOCATION:2 к. 316
END:VEVENT
BEGIN:VEVENT
UID:bl0p@192.168.245.71:3006
SEQUENCE:0
DTSTAMP:20260424T003902Z
DTSTART:20251202T090000Z
DTEND:20251202T104000Z
SUMMARY:Квантовая механика
LOCATION:2 к. 316
END:VEVENT
BEGIN:VEVENT
UID:omcl@192.168.245.71:3006
SEQUENCE:0
DTSTAMP:20260424T003902Z
DTSTART:20251202T110000Z
DTEND:20251202T124000Z
SUMMARY:Квантовая механика
LOCATION:2 к. 316
END:VEVENT
BEGIN:VEVENT
UID:z3bb@192.168.245.71:3006
SEQUENCE:0
DTSTAMP:20260424T003902Z
DTSTART:20251203T090000Z
DTEND:20251203T104000Z
SUMMARY:Квантовая механика
LOCATION:2 к. 265
END:VEVENT
BEGIN:VEVENT
UID:am4f@192.168.245.71:3006
SEQUENCE:0
DTSTAMP:20260424T003902Z
DTSTART:20251203T110000Z
DTEND:20251203T115000Z
SUMMARY:Квантовая механика
LOCATION:2 к. 265
END:VEVENT
BEGIN:VEVENT
UID:zgos@192.168.245.71:3006
SEQUENCE:0
DTSTAMP:20260424T003902Z
DTSTART:20251204T090000Z
DTEND:20251204T104000Z
SUMMARY:Квантовая механика
LOCATION:2 к. 316
END:VEVENT
BEGIN:VEVENT
UID:o600@192.168.245.71:3006
SEQUENCE:0
DTSTAMP:20260424T003902Z
DTSTART:20251204T110000Z
DTEND:20251204T115000Z
SUMMARY:Квантовая механика
LOCATION:2 к. 316
END:VEVENT
BEGIN:VEVENT
UID:un7d@192.168.245.71:3006
SEQUENCE:0
DTSTAMP:20260424T003902Z
DTSTART:20251206T110000Z
DTEND:20251206T124000Z
SUMMARY:Математическая физика
LOCATION:2 к. 265
END:VEVENT
BEGIN:VEVENT
UID:nkd7@192.168.245.71:3006
SEQUENCE:0
DTSTAMP:20260424T003902Z
DTSTART:20251206T130000Z
DTEND:20251206T135000Z
SUMMARY:Математическая физика
LOCATION:2 к. 265
END:VEVENT
END:VCALENDAR