BEGIN:VCALENDAR
VERSION:2.0
PRODID:-//spbstu.ru//ical//RU
NAME:Расписание
X-WR-CALNAME:Расписание
TIMEZONE-ID:Europe/Moscow
X-WR-TIMEZONE:Europe/Moscow
BEGIN:VEVENT
UID:7hgf@192.168.245.71:3006
SEQUENCE:0
DTSTAMP:20260425T034926Z
DTSTART:20250923T070000Z
DTEND:20250923T084000Z
SUMMARY:Квантовая механика
LOCATION:2 к. 316
END:VEVENT
BEGIN:VEVENT
UID:8zrb@192.168.245.71:3006
SEQUENCE:0
DTSTAMP:20260425T034926Z
DTSTART:20250923T090000Z
DTEND:20250923T104000Z
SUMMARY:Квантовая механика
LOCATION:2 к. 316
END:VEVENT
BEGIN:VEVENT
UID:olib@192.168.245.71:3006
SEQUENCE:0
DTSTAMP:20260425T034926Z
DTSTART:20250923T110000Z
DTEND:20250923T124000Z
SUMMARY:Квантовая механика
LOCATION:2 к. 316
END:VEVENT
BEGIN:VEVENT
UID:8sdn@192.168.245.71:3006
SEQUENCE:0
DTSTAMP:20260425T034926Z
DTSTART:20250924T090000Z
DTEND:20250924T104000Z
SUMMARY:Квантовая механика
LOCATION:2 к. 265
END:VEVENT
BEGIN:VEVENT
UID:tbld@192.168.245.71:3006
SEQUENCE:0
DTSTAMP:20260425T034926Z
DTSTART:20250924T110000Z
DTEND:20250924T115000Z
SUMMARY:Квантовая механика
LOCATION:2 к. 265
END:VEVENT
BEGIN:VEVENT
UID:emt1@192.168.245.71:3006
SEQUENCE:0
DTSTAMP:20260425T034926Z
DTSTART:20250925T090000Z
DTEND:20250925T104000Z
SUMMARY:Квантовая механика
LOCATION:2 к. 316
END:VEVENT
BEGIN:VEVENT
UID:td5q@192.168.245.71:3006
SEQUENCE:0
DTSTAMP:20260425T034926Z
DTSTART:20250925T110000Z
DTEND:20250925T115000Z
SUMMARY:Квантовая механика
LOCATION:2 к. 316
END:VEVENT
BEGIN:VEVENT
UID:h8kv@192.168.245.71:3006
SEQUENCE:0
DTSTAMP:20260425T034926Z
DTSTART:20250927T110000Z
DTEND:20250927T124000Z
SUMMARY:Математическая физика
LOCATION:2 к. 265
END:VEVENT
BEGIN:VEVENT
UID:zydv@192.168.245.71:3006
SEQUENCE:0
DTSTAMP:20260425T034926Z
DTSTART:20250927T130000Z
DTEND:20250927T135000Z
SUMMARY:Математическая физика
LOCATION:2 к. 265
END:VEVENT
END:VCALENDAR