BEGIN:VCALENDAR
VERSION:2.0
PRODID:-//spbstu.ru//ical//RU
NAME:Расписание
X-WR-CALNAME:Расписание
TIMEZONE-ID:Europe/Moscow
X-WR-TIMEZONE:Europe/Moscow
BEGIN:VEVENT
UID:4o99@192.168.245.71:3006
SEQUENCE:0
DTSTAMP:20260425T203204Z
DTSTART:20251215T110000Z
DTEND:20251215T124000Z
SUMMARY:Электроника и схемотехника
LOCATION:3 к. 403
END:VEVENT
BEGIN:VEVENT
UID:hrzs@192.168.245.71:3006
SEQUENCE:0
DTSTAMP:20260425T203204Z
DTSTART:20251216T090000Z
DTEND:20251216T104000Z
SUMMARY:Электроника и схемотехника
LOCATION:3 к. 403
END:VEVENT
BEGIN:VEVENT
UID:m1uq@192.168.245.71:3006
SEQUENCE:0
DTSTAMP:20260425T203204Z
DTSTART:20251216T130000Z
DTEND:20251216T144000Z
SUMMARY:Электроника и схемотехника
LOCATION:3 к. 403
END:VEVENT
END:VCALENDAR