BEGIN:VCALENDAR
VERSION:2.0
PRODID:-//spbstu.ru//ical//RU
NAME:Расписание
X-WR-CALNAME:Расписание
TIMEZONE-ID:Europe/Moscow
X-WR-TIMEZONE:Europe/Moscow
BEGIN:VEVENT
UID:26xh@192.168.245.71:3006
SEQUENCE:0
DTSTAMP:20260425T164957Z
DTSTART:20251225T070000Z
DTEND:20251225T120000Z
SUMMARY:Электроника и схемотехника
LOCATION:3 к. 403
END:VEVENT
BEGIN:VEVENT
UID:ucft@192.168.245.71:3006
SEQUENCE:0
DTSTAMP:20260425T164957Z
DTSTART:20251225T090000Z
DTEND:20251225T140000Z
SUMMARY:Электроника и схемотехника
LOCATION:3 к. 403
END:VEVENT
BEGIN:VEVENT
UID:sya8@192.168.245.71:3006
SEQUENCE:0
DTSTAMP:20260425T164957Z
DTSTART:20251225T110000Z
DTEND:20251225T150000Z
SUMMARY:Электроника и схемотехника
LOCATION:3 к. 403
END:VEVENT
END:VCALENDAR