BEGIN:VCALENDAR
VERSION:2.0
PRODID:-//spbstu.ru//ical//RU
NAME:Расписание
X-WR-CALNAME:Расписание
TIMEZONE-ID:Europe/Moscow
X-WR-TIMEZONE:Europe/Moscow
BEGIN:VEVENT
UID:quby@192.168.245.71:3006
SEQUENCE:0
DTSTAMP:20260424T042705Z
DTSTART:20251112T070000Z
DTEND:20251112T084000Z
SUMMARY:Профессиональная этика в связях с общественностью
LOCATION:16 к. 400
END:VEVENT
BEGIN:VEVENT
UID:qhoj@192.168.245.71:3006
SEQUENCE:0
DTSTAMP:20260424T042705Z
DTSTART:20251112T090000Z
DTEND:20251112T104000Z
SUMMARY:Профессиональная этика в связях с общественностью
LOCATION:16 к. 213
END:VEVENT
BEGIN:VEVENT
UID:hkoi@192.168.245.71:3006
SEQUENCE:0
DTSTAMP:20260424T042705Z
DTSTART:20251112T110000Z
DTEND:20251112T124000Z
SUMMARY:Профессиональная этика в связях с общественностью
LOCATION:16 к. 514
END:VEVENT
END:VCALENDAR