BEGIN:VCALENDAR
VERSION:2.0
PRODID:-//spbstu.ru//ical//RU
NAME:Расписание
X-WR-CALNAME:Расписание
TIMEZONE-ID:Europe/Moscow
X-WR-TIMEZONE:Europe/Moscow
BEGIN:VEVENT
UID:yrhp@192.168.245.71:3006
SEQUENCE:0
DTSTAMP:20260426T031708Z
DTSTART:20251126T070000Z
DTEND:20251126T084000Z
SUMMARY:Военная подготовка
LOCATION:Военная каф. кафедра
END:VEVENT
BEGIN:VEVENT
UID:gptq@192.168.245.71:3006
SEQUENCE:0
DTSTAMP:20260426T031708Z
DTSTART:20251126T090000Z
DTEND:20251126T104000Z
SUMMARY:Военная подготовка
LOCATION:Военная каф. кафедра
END:VEVENT
BEGIN:VEVENT
UID:prcp@192.168.245.71:3006
SEQUENCE:0
DTSTAMP:20260426T031708Z
DTSTART:20251126T110000Z
DTEND:20251126T124000Z
SUMMARY:Военная подготовка
LOCATION:Военная каф. кафедра
END:VEVENT
END:VCALENDAR