BEGIN:VCALENDAR
VERSION:2.0
PRODID:-//spbstu.ru//ical//RU
NAME:Расписание
X-WR-CALNAME:Расписание
TIMEZONE-ID:Europe/Moscow
X-WR-TIMEZONE:Europe/Moscow
BEGIN:VEVENT
UID:8od6@192.168.245.71:3006
SEQUENCE:0
DTSTAMP:20260422T234041Z
DTSTART:20251125T130000Z
DTEND:20251125T144000Z
SUMMARY:Кристаллография
LOCATION:2 к. 365
END:VEVENT
BEGIN:VEVENT
UID:702j@192.168.245.71:3006
SEQUENCE:0
DTSTAMP:20260422T234041Z
DTSTART:20251125T150000Z
DTEND:20251125T155000Z
SUMMARY:Кристаллография
LOCATION:2 к. 365
END:VEVENT
BEGIN:VEVENT
UID:yf0j@192.168.245.71:3006
SEQUENCE:0
DTSTAMP:20260422T234041Z
DTSTART:20251126T130000Z
DTEND:20251126T144000Z
SUMMARY:Нелинейная механика сплошной среды
LOCATION:НИК Г3.58
END:VEVENT
BEGIN:VEVENT
UID:hf3p@192.168.245.71:3006
SEQUENCE:0
DTSTAMP:20260422T234041Z
DTSTART:20251127T110000Z
DTEND:20251127T124000Z
SUMMARY:Механика материалов
LOCATION:2 к. 265
END:VEVENT
BEGIN:VEVENT
UID:1sh6@192.168.245.71:3006
SEQUENCE:0
DTSTAMP:20260422T234041Z
DTSTART:20251127T130000Z
DTEND:20251127T144000Z
SUMMARY:Механика материалов
LOCATION:2 к. 365
END:VEVENT
BEGIN:VEVENT
UID:3mhs@192.168.245.71:3006
SEQUENCE:0
DTSTAMP:20260422T234041Z
DTSTART:20251128T130000Z
DTEND:20251128T144000Z
SUMMARY:Теория вероятностей и математическая статистика
LOCATION:2 к. 265
END:VEVENT
BEGIN:VEVENT
UID:oyzb@192.168.245.71:3006
SEQUENCE:0
DTSTAMP:20260422T234041Z
DTSTART:20251128T150000Z
DTEND:20251128T160000Z
SUMMARY:Теория вероятностей и математическая статистика
LOCATION:2 к. 265
END:VEVENT
END:VCALENDAR