BEGIN:VCALENDAR
VERSION:2.0
PRODID:-//spbstu.ru//ical//RU
NAME:Расписание
X-WR-CALNAME:Расписание
TIMEZONE-ID:Europe/Moscow
X-WR-TIMEZONE:Europe/Moscow
BEGIN:VEVENT
UID:f5cf@192.168.245.71:3006
SEQUENCE:0
DTSTAMP:20260421T161126Z
DTSTART:20260211T110000Z
DTEND:20260211T124000Z
SUMMARY:Механика материалов
LOCATION:2 к. 265
END:VEVENT
BEGIN:VEVENT
UID:2ss7@192.168.245.71:3006
SEQUENCE:0
DTSTAMP:20260421T161126Z
DTSTART:20260211T130000Z
DTEND:20260211T144000Z
SUMMARY:Механика материалов
LOCATION:2 к. 143
END:VEVENT
BEGIN:VEVENT
UID:04s1@192.168.245.71:3006
SEQUENCE:0
DTSTAMP:20260421T161126Z
DTSTART:20260212T130000Z
DTEND:20260212T144000Z
SUMMARY:Материаловедение
LOCATION:Мех. к. БМ
END:VEVENT
BEGIN:VEVENT
UID:7uu8@192.168.245.71:3006
SEQUENCE:0
DTSTAMP:20260421T161126Z
DTSTART:20260212T150000Z
DTEND:20260212T155000Z
SUMMARY:Материаловедение
LOCATION:Мех. к. БМ
END:VEVENT
BEGIN:VEVENT
UID:qmqs@192.168.245.71:3006
SEQUENCE:0
DTSTAMP:20260421T161126Z
DTSTART:20260213T110000Z
DTEND:20260213T124000Z
SUMMARY:Теория вероятностей и математическая статистика
LOCATION:2 к. 265
END:VEVENT
BEGIN:VEVENT
UID:px5w@192.168.245.71:3006
SEQUENCE:0
DTSTAMP:20260421T161126Z
DTSTART:20260213T130000Z
DTEND:20260213T144000Z
SUMMARY:Теория вероятностей и математическая статистика
LOCATION:2 к. 265
END:VEVENT
END:VCALENDAR