BEGIN:VCALENDAR
VERSION:2.0
PRODID:-//spbstu.ru//ical//RU
NAME:Расписание
X-WR-CALNAME:Расписание
TIMEZONE-ID:Europe/Moscow
X-WR-TIMEZONE:Europe/Moscow
BEGIN:VEVENT
UID:b9n6@192.168.245.71:3006
SEQUENCE:0
DTSTAMP:20260425T122652Z
DTSTART:20251217T070000Z
DTEND:20251217T084000Z
SUMMARY:Методология научных исследований (на английском языке)
LOCATION:DL Дистанционно
END:VEVENT
BEGIN:VEVENT
UID:9sq5@192.168.245.71:3006
SEQUENCE:0
DTSTAMP:20260425T122652Z
DTSTART:20251217T090000Z
DTEND:20251217T104000Z
SUMMARY:Международные коммуникации в строительном бизнесе (на английском я
 зыке)
LOCATION:DL Дистанционно
END:VEVENT
END:VCALENDAR