BEGIN:VCALENDAR
VERSION:2.0
PRODID:-//spbstu.ru//ical//RU
NAME:Расписание
X-WR-CALNAME:Расписание
TIMEZONE-ID:Europe/Moscow
X-WR-TIMEZONE:Europe/Moscow
BEGIN:VEVENT
UID:q69f@192.168.245.71:3006
SEQUENCE:0
DTSTAMP:20260421T201915Z
DTSTART:20260310T110000Z
DTEND:20260310T124000Z
SUMMARY:Электродинамика и распространение радиоволн
LOCATION:2 к. 452
END:VEVENT
BEGIN:VEVENT
UID:nm0g@192.168.245.71:3006
SEQUENCE:0
DTSTAMP:20260421T201915Z
DTSTART:20260312T090000Z
DTEND:20260312T104000Z
SUMMARY:Радиотехнические цепи и сигналы
LOCATION:НИК В2.18
END:VEVENT
BEGIN:VEVENT
UID:vzbx@192.168.245.71:3006
SEQUENCE:0
DTSTAMP:20260421T201915Z
DTSTART:20260313T070000Z
DTEND:20260313T084000Z
SUMMARY:Радиофизика
LOCATION:2 к. 353
END:VEVENT
BEGIN:VEVENT
UID:b2lm@192.168.245.71:3006
SEQUENCE:0
DTSTAMP:20260421T201915Z
DTSTART:20260313T090000Z
DTEND:20260313T104000Z
SUMMARY:Электродинамика и распространение радиоволн
LOCATION:2 к. 454
END:VEVENT
END:VCALENDAR