BEGIN:VCALENDAR
VERSION:2.0
PRODID:-//spbstu.ru//ical//RU
NAME:Расписание
X-WR-CALNAME:Расписание
TIMEZONE-ID:Europe/Moscow
X-WR-TIMEZONE:Europe/Moscow
BEGIN:VEVENT
UID:dfg6@192.168.245.71:3006
SEQUENCE:0
DTSTAMP:20260421T081123Z
DTSTART:20260413T130000Z
DTEND:20260413T144000Z
SUMMARY:Управление жизненным циклом информационных систем
LOCATION:50 уч.к 1341
END:VEVENT
BEGIN:VEVENT
UID:fcwv@192.168.245.71:3006
SEQUENCE:0
DTSTAMP:20260421T081123Z
DTSTART:20260414T153000Z
DTEND:20260414T170000Z
SUMMARY:Корпоративные информационные системы
LOCATION:50 уч.к 1205
END:VEVENT
BEGIN:VEVENT
UID:qn6i@192.168.245.71:3006
SEQUENCE:0
DTSTAMP:20260421T081123Z
DTSTART:20260414T171500Z
DTEND:20260414T184500Z
SUMMARY:Корпоративные информационные системы
LOCATION:50 уч.к 1205
END:VEVENT
BEGIN:VEVENT
UID:wub7@192.168.245.71:3006
SEQUENCE:0
DTSTAMP:20260421T081123Z
DTSTART:20260415T110000Z
DTEND:20260415T124000Z
SUMMARY:Управление жизненным циклом информационных систем
LOCATION:50 уч.к 1101
END:VEVENT
BEGIN:VEVENT
UID:yw31@192.168.245.71:3006
SEQUENCE:0
DTSTAMP:20260421T081123Z
DTSTART:20260415T130000Z
DTEND:20260415T144000Z
SUMMARY:Управление жизненным циклом информационных систем
LOCATION:50 уч.к 1101
END:VEVENT
BEGIN:VEVENT
UID:b4gr@192.168.245.71:3006
SEQUENCE:0
DTSTAMP:20260421T081123Z
DTSTART:20260415T153000Z
DTEND:20260415T170000Z
SUMMARY:Сетевые сервисы ИТ-инфраструктуры предприятия
LOCATION:50 уч.к 1205
END:VEVENT
BEGIN:VEVENT
UID:gbfa@192.168.245.71:3006
SEQUENCE:0
DTSTAMP:20260421T081123Z
DTSTART:20260415T171500Z
DTEND:20260415T184500Z
SUMMARY:Сетевые сервисы ИТ-инфраструктуры предприятия
LOCATION:50 уч.к 1205
END:VEVENT
BEGIN:VEVENT
UID:9pqy@192.168.245.71:3006
SEQUENCE:0
DTSTAMP:20260421T081123Z
DTSTART:20260417T090000Z
DTEND:20260417T104000Z
SUMMARY:Управление жизненным циклом информационных систем
LOCATION:50 уч.к 1101
END:VEVENT
BEGIN:VEVENT
UID:ekx7@192.168.245.71:3006
SEQUENCE:0
DTSTAMP:20260421T081123Z
DTSTART:20260417T110000Z
DTEND:20260417T124000Z
SUMMARY:Управление жизненным циклом информационных систем
LOCATION:50 уч.к 1101
END:VEVENT
BEGIN:VEVENT
UID:6bkm@192.168.245.71:3006
SEQUENCE:0
DTSTAMP:20260421T081123Z
DTSTART:20260417T130000Z
DTEND:20260417T144000Z
SUMMARY:Управление жизненным циклом информационных систем
LOCATION:50 уч.к 1101
END:VEVENT
END:VCALENDAR