BEGIN:VCALENDAR
VERSION:2.0
PRODID:-//spbstu.ru//ical//RU
NAME:Расписание
X-WR-CALNAME:Расписание
TIMEZONE-ID:Europe/Moscow
X-WR-TIMEZONE:Europe/Moscow
BEGIN:VEVENT
UID:e7uz@192.168.245.71:3006
SEQUENCE:0
DTSTAMP:20260421T235247Z
DTSTART:20260318T110000Z
DTEND:20260318T124000Z
SUMMARY:Теория подобия и численное моделирование гидромашин
LOCATION:ТВН ГМ уч.ауд.№316
END:VEVENT
BEGIN:VEVENT
UID:ufd0@192.168.245.71:3006
SEQUENCE:0
DTSTAMP:20260421T235247Z
DTSTART:20260318T130000Z
DTEND:20260318T144000Z
SUMMARY:Насосное оборудования ТЭС и АЭС
LOCATION:ТВН ГМ уч.ауд.№316
END:VEVENT
BEGIN:VEVENT
UID:5vnb@192.168.245.71:3006
SEQUENCE:0
DTSTAMP:20260421T235247Z
DTSTART:20260320T090000Z
DTEND:20260320T104000Z
SUMMARY:Динамические насосы\, расчет лопастных систем
LOCATION:ТВН ГМ уч.ауд.№316
END:VEVENT
BEGIN:VEVENT
UID:7i93@192.168.245.71:3006
SEQUENCE:0
DTSTAMP:20260421T235247Z
DTSTART:20260320T110000Z
DTEND:20260320T124000Z
SUMMARY:Динамические насосы\, расчет лопастных систем
LOCATION:ТВН ГМ уч.ауд.№316
END:VEVENT
END:VCALENDAR