BEGIN:VCALENDAR
VERSION:2.0
PRODID:-//spbstu.ru//ical//RU
NAME:Расписание
X-WR-CALNAME:Расписание
TIMEZONE-ID:Europe/Moscow
X-WR-TIMEZONE:Europe/Moscow
BEGIN:VEVENT
UID:s63c@192.168.245.71:3006
SEQUENCE:0
DTSTAMP:20260421T101218Z
DTSTART:20260506T130000Z
DTEND:20260506T144000Z
SUMMARY:Насосное оборудования ТЭС и АЭС
LOCATION:ТВН ГМ уч.ауд.№316
END:VEVENT
BEGIN:VEVENT
UID:78xj@192.168.245.71:3006
SEQUENCE:0
DTSTAMP:20260421T101218Z
DTSTART:20260508T090000Z
DTEND:20260508T104000Z
SUMMARY:Динамические насосы\, расчет лопастных систем
LOCATION:ТВН ГМ уч.ауд.№316
END:VEVENT
END:VCALENDAR