BEGIN:VCALENDAR
VERSION:2.0
PRODID:-//spbstu.ru//ical//RU
NAME:Расписание
X-WR-CALNAME:Расписание
TIMEZONE-ID:Europe/Moscow
X-WR-TIMEZONE:Europe/Moscow
BEGIN:VEVENT
UID:fxqm@192.168.245.71:3006
SEQUENCE:0
DTSTAMP:20260423T230051Z
DTSTART:20251028T110000Z
DTEND:20251028T124000Z
SUMMARY:Основы теплофизики
LOCATION:2 к. 160
END:VEVENT
BEGIN:VEVENT
UID:h3zs@192.168.245.71:3006
SEQUENCE:0
DTSTAMP:20260423T230051Z
DTSTART:20251028T130000Z
DTEND:20251028T144000Z
SUMMARY:Основы теплофизики
LOCATION:2 к. 160
END:VEVENT
END:VCALENDAR