BEGIN:VCALENDAR
VERSION:2.0
PRODID:-//spbstu.ru//ical//RU
NAME:Расписание
X-WR-CALNAME:Расписание
TIMEZONE-ID:Europe/Moscow
X-WR-TIMEZONE:Europe/Moscow
BEGIN:VEVENT
UID:183f@192.168.245.71:3006
SEQUENCE:0
DTSTAMP:20260421T084614Z
DTSTART:20260326T090000Z
DTEND:20260326T104000Z
SUMMARY:Основы теплофизики
LOCATION:2 к. 160
END:VEVENT
BEGIN:VEVENT
UID:pcl3@192.168.245.71:3006
SEQUENCE:0
DTSTAMP:20260421T084614Z
DTSTART:20260326T110000Z
DTEND:20260326T124000Z
SUMMARY:Основы теплофизики
LOCATION:2 к. 160
END:VEVENT
END:VCALENDAR