BEGIN:VCALENDAR
VERSION:2.0
PRODID:-//spbstu.ru//ical//RU
NAME:Расписание
X-WR-CALNAME:Расписание
TIMEZONE-ID:Europe/Moscow
X-WR-TIMEZONE:Europe/Moscow
BEGIN:VEVENT
UID:vtqd@192.168.245.71:3006
SEQUENCE:0
DTSTAMP:20260420T221542Z
DTSTART:20260423T090000Z
DTEND:20260423T104000Z
SUMMARY:Основы теплофизики
LOCATION:2 к. 160
END:VEVENT
BEGIN:VEVENT
UID:97wb@192.168.245.71:3006
SEQUENCE:0
DTSTAMP:20260420T221542Z
DTSTART:20260423T110000Z
DTEND:20260423T124000Z
SUMMARY:Основы теплофизики
LOCATION:2 к. 160
END:VEVENT
END:VCALENDAR