BEGIN:VCALENDAR
VERSION:2.0
PRODID:-//spbstu.ru//ical//RU
NAME:Расписание
X-WR-CALNAME:Расписание
TIMEZONE-ID:Europe/Moscow
X-WR-TIMEZONE:Europe/Moscow
BEGIN:VEVENT
UID:wbb0@192.168.245.71:3006
SEQUENCE:0
DTSTAMP:20260422T140803Z
DTSTART:20260212T153000Z
DTEND:20260212T170000Z
SUMMARY:Уголовное право
LOCATION:9 к. 133
END:VEVENT
BEGIN:VEVENT
UID:wxbr@192.168.245.71:3006
SEQUENCE:0
DTSTAMP:20260422T140803Z
DTSTART:20260212T171500Z
DTEND:20260212T184500Z
SUMMARY:Уголовное право
LOCATION:9 к. 133
END:VEVENT
END:VCALENDAR