BEGIN:VCALENDAR
VERSION:2.0
PRODID:-//spbstu.ru//ical//RU
NAME:Расписание
X-WR-CALNAME:Расписание
TIMEZONE-ID:Europe/Moscow
X-WR-TIMEZONE:Europe/Moscow
BEGIN:VEVENT
UID:cbn5@192.168.245.71:3006
SEQUENCE:0
DTSTAMP:20260421T150117Z
DTSTART:20260331T153000Z
DTEND:20260331T170000Z
SUMMARY:Уголовно-исполнительное право
LOCATION:9 к. 208
END:VEVENT
BEGIN:VEVENT
UID:4ydp@192.168.245.71:3006
SEQUENCE:0
DTSTAMP:20260421T150117Z
DTSTART:20260331T171500Z
DTEND:20260331T184500Z
SUMMARY:Уголовно-исполнительное право
LOCATION:9 к. 208
END:VEVENT
END:VCALENDAR