BEGIN:VCALENDAR
VERSION:2.0
PRODID:-//spbstu.ru//ical//RU
NAME:Расписание
X-WR-CALNAME:Расписание
TIMEZONE-ID:Europe/Moscow
X-WR-TIMEZONE:Europe/Moscow
BEGIN:VEVENT
UID:z4ks@192.168.245.71:3006
SEQUENCE:0
DTSTAMP:20260424T181945Z
DTSTART:20251022T090000Z
DTEND:20251022T104000Z
SUMMARY:Управление научным проектом
LOCATION:4 к. 308-2
END:VEVENT
BEGIN:VEVENT
UID:02dz@192.168.245.71:3006
SEQUENCE:0
DTSTAMP:20260424T181945Z
DTSTART:20251023T090000Z
DTEND:20251023T104000Z
SUMMARY:Введение в профессиональную деятельность
LOCATION:3 к. 201
END:VEVENT
BEGIN:VEVENT
UID:qbas@192.168.245.71:3006
SEQUENCE:0
DTSTAMP:20260424T181945Z
DTSTART:20251023T110000Z
DTEND:20251023T115000Z
SUMMARY:Архитектура суперкомпьютерных систем
LOCATION:4 к. 305-2
END:VEVENT
BEGIN:VEVENT
UID:7y11@192.168.245.71:3006
SEQUENCE:0
DTSTAMP:20260424T181945Z
DTSTART:20251023T140000Z
DTEND:20251023T145000Z
SUMMARY:Научный дискурс
LOCATION:НИК А1.08
END:VEVENT
END:VCALENDAR