BEGIN:VCALENDAR
VERSION:2.0
PRODID:-//spbstu.ru//ical//RU
NAME:Расписание
X-WR-CALNAME:Расписание
TIMEZONE-ID:Europe/Moscow
X-WR-TIMEZONE:Europe/Moscow
BEGIN:VEVENT
UID:4bcf@192.168.245.71:3006
SEQUENCE:0
DTSTAMP:20260423T063052Z
DTSTART:20251217T070000Z
DTEND:20251217T102000Z
SUMMARY:Управление научным проектом
LOCATION:4 к. 308-2
END:VEVENT
BEGIN:VEVENT
UID:d2l6@192.168.245.71:3006
SEQUENCE:0
DTSTAMP:20260423T063052Z
DTSTART:20251217T110000Z
DTEND:20251217T142000Z
SUMMARY:Научный дискурс
LOCATION:НИК А1.08
END:VEVENT
BEGIN:VEVENT
UID:xbut@192.168.245.71:3006
SEQUENCE:0
DTSTAMP:20260423T063052Z
DTSTART:20251218T070000Z
DTEND:20251218T084000Z
SUMMARY:Введение в профессиональную деятельность
LOCATION:4 к. 308-2
END:VEVENT
BEGIN:VEVENT
UID:gjpw@192.168.245.71:3006
SEQUENCE:0
DTSTAMP:20260423T063052Z
DTSTART:20251218T090000Z
DTEND:20251218T104000Z
SUMMARY:Введение в профессиональную деятельность
LOCATION:4 к. 308-2
END:VEVENT
BEGIN:VEVENT
UID:jq1g@192.168.245.71:3006
SEQUENCE:0
DTSTAMP:20260423T063052Z
DTSTART:20251218T110000Z
DTEND:20251218T124000Z
SUMMARY:Введение в профессиональную деятельность
LOCATION:4 к. 308-2
END:VEVENT
BEGIN:VEVENT
UID:aqza@192.168.245.71:3006
SEQUENCE:0
DTSTAMP:20260423T063052Z
DTSTART:20251219T070000Z
DTEND:20251219T084000Z
SUMMARY:Введение в профессиональную деятельность
LOCATION:4 к. 308-2
END:VEVENT
BEGIN:VEVENT
UID:6ekc@192.168.245.71:3006
SEQUENCE:0
DTSTAMP:20260423T063052Z
DTSTART:20251219T090000Z
DTEND:20251219T104000Z
SUMMARY:Введение в профессиональную деятельность
LOCATION:4 к. 308-2
END:VEVENT
BEGIN:VEVENT
UID:w25r@192.168.245.71:3006
SEQUENCE:0
DTSTAMP:20260423T063052Z
DTSTART:20251219T110000Z
DTEND:20251219T124000Z
SUMMARY:Введение в профессиональную деятельность
LOCATION:4 к. 308-2
END:VEVENT
END:VCALENDAR