BEGIN:VCALENDAR
VERSION:2.0
PRODID:-//spbstu.ru//ical//RU
NAME:Расписание
X-WR-CALNAME:Расписание
TIMEZONE-ID:Europe/Moscow
X-WR-TIMEZONE:Europe/Moscow
BEGIN:VEVENT
UID:b35c@192.168.245.71:3006
SEQUENCE:0
DTSTAMP:20260422T144937Z
DTSTART:20260211T070000Z
DTEND:20260211T084000Z
SUMMARY:Экспериментальные исследования
LOCATION:НИК А1.08
END:VEVENT
BEGIN:VEVENT
UID:zpa0@192.168.245.71:3006
SEQUENCE:0
DTSTAMP:20260422T144937Z
DTSTART:20260211T090000Z
DTEND:20260211T104000Z
SUMMARY:Экспериментальные исследования
LOCATION:НИК А1.08
END:VEVENT
BEGIN:VEVENT
UID:on55@192.168.245.71:3006
SEQUENCE:0
DTSTAMP:20260422T144937Z
DTSTART:20260211T110000Z
DTEND:20260211T124000Z
SUMMARY:Экспериментальные исследования
LOCATION:НИК А1.08
END:VEVENT
BEGIN:VEVENT
UID:bbn5@192.168.245.71:3006
SEQUENCE:0
DTSTAMP:20260422T144937Z
DTSTART:20260212T070000Z
DTEND:20260212T075000Z
SUMMARY:Методы исследовательской работы
LOCATION:4 к. 305-2
END:VEVENT
BEGIN:VEVENT
UID:l4nv@192.168.245.71:3006
SEQUENCE:0
DTSTAMP:20260422T144937Z
DTSTART:20260214T100000Z
DTEND:20260214T114000Z
SUMMARY:Экспериментальные исследования
LOCATION:НИК А1.08
END:VEVENT
BEGIN:VEVENT
UID:1p5j@192.168.245.71:3006
SEQUENCE:0
DTSTAMP:20260422T144937Z
DTSTART:20260214T120000Z
DTEND:20260214T134000Z
SUMMARY:Экспериментальные исследования
LOCATION:НИК А1.08
END:VEVENT
END:VCALENDAR