BEGIN:VCALENDAR
VERSION:2.0
PRODID:-//spbstu.ru//ical//RU
NAME:Расписание
X-WR-CALNAME:Расписание
TIMEZONE-ID:Europe/Moscow
X-WR-TIMEZONE:Europe/Moscow
BEGIN:VEVENT
UID:sol1@192.168.245.71:3006
SEQUENCE:0
DTSTAMP:20260424T171729Z
DTSTART:20251023T070000Z
DTEND:20251023T084000Z
SUMMARY:Проектирование алгоритмов
LOCATION:1 к. лаб.2  каф. Примат
END:VEVENT
BEGIN:VEVENT
UID:y687@192.168.245.71:3006
SEQUENCE:0
DTSTAMP:20260424T171729Z
DTSTART:20251023T090000Z
DTEND:20251023T095000Z
SUMMARY:Проектирование алгоритмов
LOCATION:1 к. лаб.2  каф. Примат
END:VEVENT
BEGIN:VEVENT
UID:uqsu@192.168.245.71:3006
SEQUENCE:0
DTSTAMP:20260424T171729Z
DTSTART:20251024T070000Z
DTEND:20251024T084000Z
SUMMARY:Теория алгоритмов
LOCATION:ГЗ 225
END:VEVENT
BEGIN:VEVENT
UID:h7jl@192.168.245.71:3006
SEQUENCE:0
DTSTAMP:20260424T171729Z
DTSTART:20251024T090000Z
DTEND:20251024T104000Z
SUMMARY:Теория алгоритмов
LOCATION:ГЗ 255
END:VEVENT
END:VCALENDAR