BEGIN:VCALENDAR
VERSION:2.0
PRODID:-//spbstu.ru//ical//RU
NAME:Расписание
X-WR-CALNAME:Расписание
TIMEZONE-ID:Europe/Moscow
X-WR-TIMEZONE:Europe/Moscow
BEGIN:VEVENT
UID:o867@192.168.245.71:3006
SEQUENCE:0
DTSTAMP:20260420T235210Z
DTSTART:20260414T070000Z
DTEND:20260414T084000Z
SUMMARY:Дискретная математика
LOCATION:1 к. 431
END:VEVENT
BEGIN:VEVENT
UID:8nv1@192.168.245.71:3006
SEQUENCE:0
DTSTAMP:20260420T235210Z
DTSTART:20260414T090000Z
DTEND:20260414T104000Z
SUMMARY:Приложения дискретной математики
LOCATION:НИК В2.02
END:VEVENT
BEGIN:VEVENT
UID:8ms4@192.168.245.71:3006
SEQUENCE:0
DTSTAMP:20260420T235210Z
DTSTART:20260416T090000Z
DTEND:20260416T104000Z
SUMMARY:Приложения дискретной математики
LOCATION:1 к. каф. Примат
END:VEVENT
BEGIN:VEVENT
UID:s7zj@192.168.245.71:3006
SEQUENCE:0
DTSTAMP:20260420T235210Z
DTSTART:20260416T110000Z
DTEND:20260416T124000Z
SUMMARY:Теория алгоритмов
LOCATION:ГЗ 208
END:VEVENT
BEGIN:VEVENT
UID:x5r1@192.168.245.71:3006
SEQUENCE:0
DTSTAMP:20260420T235210Z
DTSTART:20260416T130000Z
DTEND:20260416T135000Z
SUMMARY:Теория алгоритмов
LOCATION:ГЗ 208
END:VEVENT
END:VCALENDAR