BEGIN:VCALENDAR
VERSION:2.0
PRODID:-//spbstu.ru//ical//RU
NAME:Расписание
X-WR-CALNAME:Расписание
TIMEZONE-ID:Europe/Moscow
X-WR-TIMEZONE:Europe/Moscow
BEGIN:VEVENT
UID:xzqk@192.168.245.71:3006
SEQUENCE:0
DTSTAMP:20260424T215221Z
DTSTART:20251006T090000Z
DTEND:20251006T104000Z
SUMMARY:Информационные системы и технологии
LOCATION:50 уч.к 1104
END:VEVENT
BEGIN:VEVENT
UID:yzm2@192.168.245.71:3006
SEQUENCE:0
DTSTAMP:20260424T215221Z
DTSTART:20251006T110000Z
DTEND:20251006T124000Z
SUMMARY:Информационные системы и технологии
LOCATION:50 уч.к 1104
END:VEVENT
BEGIN:VEVENT
UID:y5bo@192.168.245.71:3006
SEQUENCE:0
DTSTAMP:20260424T215221Z
DTSTART:20251006T130000Z
DTEND:20251006T144000Z
SUMMARY:Информационные системы и технологии
LOCATION:50 уч.к 1110
END:VEVENT
BEGIN:VEVENT
UID:2rqf@192.168.245.71:3006
SEQUENCE:0
DTSTAMP:20260424T215221Z
DTSTART:20251006T150000Z
DTEND:20251006T164000Z
SUMMARY:Базы данных
LOCATION:50 уч.к 1110
END:VEVENT
BEGIN:VEVENT
UID:dfn0@192.168.245.71:3006
SEQUENCE:0
DTSTAMP:20260424T215221Z
DTSTART:20251007T153000Z
DTEND:20251007T170000Z
SUMMARY:Теория вероятностей и математическая статистика
LOCATION:DL Дистанционно
END:VEVENT
BEGIN:VEVENT
UID:xr49@192.168.245.71:3006
SEQUENCE:0
DTSTAMP:20260424T215221Z
DTSTART:20251007T171500Z
DTEND:20251007T184500Z
SUMMARY:Теория вероятностей и математическая статистика
LOCATION:DL Дистанционно
END:VEVENT
BEGIN:VEVENT
UID:ppyq@192.168.245.71:3006
SEQUENCE:0
DTSTAMP:20260424T215221Z
DTSTART:20251008T050000Z
DTEND:20251008T064000Z
SUMMARY:Информационные системы и технологии
LOCATION:50 уч.к 1107
END:VEVENT
BEGIN:VEVENT
UID:wqpb@192.168.245.71:3006
SEQUENCE:0
DTSTAMP:20260424T215221Z
DTSTART:20251008T070000Z
DTEND:20251008T084000Z
SUMMARY:Информационные системы и технологии
LOCATION:50 уч.к 1107
END:VEVENT
BEGIN:VEVENT
UID:7s3c@192.168.245.71:3006
SEQUENCE:0
DTSTAMP:20260424T215221Z
DTSTART:20251008T090000Z
DTEND:20251008T104000Z
SUMMARY:Информационные системы и технологии
LOCATION:50 уч.к 1101
END:VEVENT
BEGIN:VEVENT
UID:8hm0@192.168.245.71:3006
SEQUENCE:0
DTSTAMP:20260424T215221Z
DTSTART:20251008T110000Z
DTEND:20251008T124000Z
SUMMARY:Базы данных
LOCATION:50 уч.к 1110
END:VEVENT
BEGIN:VEVENT
UID:05ap@192.168.245.71:3006
SEQUENCE:0
DTSTAMP:20260424T215221Z
DTSTART:20251009T070000Z
DTEND:20251009T084000Z
SUMMARY:Теория вероятностей и математическая статистика
LOCATION:3 к. 107
END:VEVENT
BEGIN:VEVENT
UID:if6z@192.168.245.71:3006
SEQUENCE:0
DTSTAMP:20260424T215221Z
DTSTART:20251009T090000Z
DTEND:20251009T104000Z
SUMMARY:Теория вероятностей и математическая статистика
LOCATION:3 к. 506
END:VEVENT
BEGIN:VEVENT
UID:mynw@192.168.245.71:3006
SEQUENCE:0
DTSTAMP:20260424T215221Z
DTSTART:20251009T110000Z
DTEND:20251009T124000Z
SUMMARY:Теория вероятностей и математическая статистика
LOCATION:3 к. 214
END:VEVENT
BEGIN:VEVENT
UID:jcfc@192.168.245.71:3006
SEQUENCE:0
DTSTAMP:20260424T215221Z
DTSTART:20251009T130000Z
DTEND:20251009T144000Z
SUMMARY:Теория вероятностей и математическая статистика
LOCATION:3 к. 107
END:VEVENT
BEGIN:VEVENT
UID:8l9x@192.168.245.71:3006
SEQUENCE:0
DTSTAMP:20260424T215221Z
DTSTART:20251009T150000Z
DTEND:20251009T164000Z
SUMMARY:Теория вероятностей и математическая статистика
LOCATION:3 к. 110
END:VEVENT
BEGIN:VEVENT
UID:oc6a@192.168.245.71:3006
SEQUENCE:0
DTSTAMP:20260424T215221Z
DTSTART:20251010T050000Z
DTEND:20251010T064000Z
SUMMARY:Информационные системы и технологии
LOCATION:50 уч.к 1103
END:VEVENT
BEGIN:VEVENT
UID:mwfx@192.168.245.71:3006
SEQUENCE:0
DTSTAMP:20260424T215221Z
DTSTART:20251010T070000Z
DTEND:20251010T084000Z
SUMMARY:Информационные системы и технологии
LOCATION:50 уч.к 1103
END:VEVENT
BEGIN:VEVENT
UID:cryh@192.168.245.71:3006
SEQUENCE:0
DTSTAMP:20260424T215221Z
DTSTART:20251010T090000Z
DTEND:20251010T104000Z
SUMMARY:Информационные системы и технологии
LOCATION:50 уч.к 1103
END:VEVENT
BEGIN:VEVENT
UID:cael@192.168.245.71:3006
SEQUENCE:0
DTSTAMP:20260424T215221Z
DTSTART:20251010T110000Z
DTEND:20251010T124000Z
SUMMARY:Информационные системы и технологии
LOCATION:50 уч.к 1103
END:VEVENT
BEGIN:VEVENT
UID:o0wm@192.168.245.71:3006
SEQUENCE:0
DTSTAMP:20260424T215221Z
DTSTART:20251010T130000Z
DTEND:20251010T144000Z
SUMMARY:Информационные системы и технологии
LOCATION:50 уч.к 1208
END:VEVENT
BEGIN:VEVENT
UID:qgss@192.168.245.71:3006
SEQUENCE:0
DTSTAMP:20260424T215221Z
DTSTART:20251011T110000Z
DTEND:20251011T124000Z
SUMMARY:Теория вероятностей и математическая статистика
LOCATION:3 к. 216
END:VEVENT
BEGIN:VEVENT
UID:74rg@192.168.245.71:3006
SEQUENCE:0
DTSTAMP:20260424T215221Z
DTSTART:20251011T130000Z
DTEND:20251011T144000Z
SUMMARY:Теория вероятностей и математическая статистика
LOCATION:3 к. 203
END:VEVENT
END:VCALENDAR