BEGIN:VCALENDAR
VERSION:2.0
PRODID:-//spbstu.ru//ical//RU
NAME:Расписание
X-WR-CALNAME:Расписание
TIMEZONE-ID:Europe/Moscow
X-WR-TIMEZONE:Europe/Moscow
BEGIN:VEVENT
UID:s47m@192.168.245.71:3006
SEQUENCE:0
DTSTAMP:20260423T141110Z
DTSTART:20251201T090000Z
DTEND:20251201T104000Z
SUMMARY:Информационные системы и технологии
LOCATION:50 уч.к 1104
END:VEVENT
BEGIN:VEVENT
UID:pf8x@192.168.245.71:3006
SEQUENCE:0
DTSTAMP:20260423T141110Z
DTSTART:20251201T110000Z
DTEND:20251201T124000Z
SUMMARY:Информационные системы и технологии
LOCATION:50 уч.к 1104
END:VEVENT
BEGIN:VEVENT
UID:qrc1@192.168.245.71:3006
SEQUENCE:0
DTSTAMP:20260423T141110Z
DTSTART:20251201T130000Z
DTEND:20251201T144000Z
SUMMARY:Информационные системы и технологии
LOCATION:50 уч.к 1110
END:VEVENT
BEGIN:VEVENT
UID:jk12@192.168.245.71:3006
SEQUENCE:0
DTSTAMP:20260423T141110Z
DTSTART:20251201T150000Z
DTEND:20251201T164000Z
SUMMARY:Базы данных
LOCATION:50 уч.к 1110
END:VEVENT
BEGIN:VEVENT
UID:m5bw@192.168.245.71:3006
SEQUENCE:0
DTSTAMP:20260423T141110Z
DTSTART:20251202T153000Z
DTEND:20251202T170000Z
SUMMARY:Теория вероятностей и математическая статистика
LOCATION:DL Дистанционно
END:VEVENT
BEGIN:VEVENT
UID:1ta3@192.168.245.71:3006
SEQUENCE:0
DTSTAMP:20260423T141110Z
DTSTART:20251202T171500Z
DTEND:20251202T184500Z
SUMMARY:Теория вероятностей и математическая статистика
LOCATION:DL Дистанционно
END:VEVENT
BEGIN:VEVENT
UID:khj9@192.168.245.71:3006
SEQUENCE:0
DTSTAMP:20260423T141110Z
DTSTART:20251203T050000Z
DTEND:20251203T064000Z
SUMMARY:Информационные системы и технологии
LOCATION:50 уч.к 1107
END:VEVENT
BEGIN:VEVENT
UID:qziu@192.168.245.71:3006
SEQUENCE:0
DTSTAMP:20260423T141110Z
DTSTART:20251203T070000Z
DTEND:20251203T084000Z
SUMMARY:Информационные системы и технологии
LOCATION:50 уч.к 1107
END:VEVENT
BEGIN:VEVENT
UID:xrr0@192.168.245.71:3006
SEQUENCE:0
DTSTAMP:20260423T141110Z
DTSTART:20251203T090000Z
DTEND:20251203T104000Z
SUMMARY:Информационные системы и технологии
LOCATION:50 уч.к 1101
END:VEVENT
BEGIN:VEVENT
UID:go13@192.168.245.71:3006
SEQUENCE:0
DTSTAMP:20260423T141110Z
DTSTART:20251203T110000Z
DTEND:20251203T124000Z
SUMMARY:Базы данных
LOCATION:50 уч.к 1110
END:VEVENT
BEGIN:VEVENT
UID:c20e@192.168.245.71:3006
SEQUENCE:0
DTSTAMP:20260423T141110Z
DTSTART:20251204T070000Z
DTEND:20251204T084000Z
SUMMARY:Теория вероятностей и математическая статистика
LOCATION:3 к. 107
END:VEVENT
BEGIN:VEVENT
UID:h54x@192.168.245.71:3006
SEQUENCE:0
DTSTAMP:20260423T141110Z
DTSTART:20251204T090000Z
DTEND:20251204T104000Z
SUMMARY:Теория вероятностей и математическая статистика
LOCATION:3 к. 506
END:VEVENT
BEGIN:VEVENT
UID:ckqw@192.168.245.71:3006
SEQUENCE:0
DTSTAMP:20260423T141110Z
DTSTART:20251204T110000Z
DTEND:20251204T124000Z
SUMMARY:Теория вероятностей и математическая статистика
LOCATION:3 к. 205
END:VEVENT
BEGIN:VEVENT
UID:ixrc@192.168.245.71:3006
SEQUENCE:0
DTSTAMP:20260423T141110Z
DTSTART:20251204T130000Z
DTEND:20251204T144000Z
SUMMARY:Теория вероятностей и математическая статистика
LOCATION:3 к. 107
END:VEVENT
BEGIN:VEVENT
UID:jsfl@192.168.245.71:3006
SEQUENCE:0
DTSTAMP:20260423T141110Z
DTSTART:20251204T150000Z
DTEND:20251204T164000Z
SUMMARY:Теория вероятностей и математическая статистика
LOCATION:3 к. 110
END:VEVENT
BEGIN:VEVENT
UID:1z07@192.168.245.71:3006
SEQUENCE:0
DTSTAMP:20260423T141110Z
DTSTART:20251205T050000Z
DTEND:20251205T064000Z
SUMMARY:Информационные системы и технологии
LOCATION:50 уч.к 1103
END:VEVENT
BEGIN:VEVENT
UID:4pnj@192.168.245.71:3006
SEQUENCE:0
DTSTAMP:20260423T141110Z
DTSTART:20251205T070000Z
DTEND:20251205T084000Z
SUMMARY:Информационные системы и технологии
LOCATION:50 уч.к 1103
END:VEVENT
BEGIN:VEVENT
UID:1mgj@192.168.245.71:3006
SEQUENCE:0
DTSTAMP:20260423T141110Z
DTSTART:20251205T090000Z
DTEND:20251205T104000Z
SUMMARY:Информационные системы и технологии
LOCATION:50 уч.к 1103
END:VEVENT
BEGIN:VEVENT
UID:8msk@192.168.245.71:3006
SEQUENCE:0
DTSTAMP:20260423T141110Z
DTSTART:20251205T110000Z
DTEND:20251205T124000Z
SUMMARY:Информационные системы и технологии
LOCATION:50 уч.к 1103
END:VEVENT
BEGIN:VEVENT
UID:0aou@192.168.245.71:3006
SEQUENCE:0
DTSTAMP:20260423T141110Z
DTSTART:20251205T130000Z
DTEND:20251205T144000Z
SUMMARY:Информационные системы и технологии
LOCATION:50 уч.к 1208
END:VEVENT
BEGIN:VEVENT
UID:mqqo@192.168.245.71:3006
SEQUENCE:0
DTSTAMP:20260423T141110Z
DTSTART:20251206T110000Z
DTEND:20251206T124000Z
SUMMARY:Теория вероятностей и математическая статистика
LOCATION:3 к. 216
END:VEVENT
BEGIN:VEVENT
UID:v86z@192.168.245.71:3006
SEQUENCE:0
DTSTAMP:20260423T141110Z
DTSTART:20251206T130000Z
DTEND:20251206T144000Z
SUMMARY:Теория вероятностей и математическая статистика
LOCATION:3 к. 203
END:VEVENT
END:VCALENDAR