BEGIN:VCALENDAR
VERSION:2.0
PRODID:-//spbstu.ru//ical//RU
NAME:Расписание
X-WR-CALNAME:Расписание
TIMEZONE-ID:Europe/Moscow
X-WR-TIMEZONE:Europe/Moscow
BEGIN:VEVENT
UID:b6t1@192.168.245.71:3006
SEQUENCE:0
DTSTAMP:20260423T173124Z
DTSTART:20251208T090000Z
DTEND:20251208T104000Z
SUMMARY:Информационные системы и технологии
LOCATION:50 уч.к 1104
END:VEVENT
BEGIN:VEVENT
UID:mysa@192.168.245.71:3006
SEQUENCE:0
DTSTAMP:20260423T173124Z
DTSTART:20251208T110000Z
DTEND:20251208T124000Z
SUMMARY:Информационные системы и технологии
LOCATION:50 уч.к 1104
END:VEVENT
BEGIN:VEVENT
UID:5jyk@192.168.245.71:3006
SEQUENCE:0
DTSTAMP:20260423T173124Z
DTSTART:20251208T130000Z
DTEND:20251208T144000Z
SUMMARY:Информационные системы и технологии
LOCATION:50 уч.к 1110
END:VEVENT
BEGIN:VEVENT
UID:d64x@192.168.245.71:3006
SEQUENCE:0
DTSTAMP:20260423T173124Z
DTSTART:20251208T150000Z
DTEND:20251208T164000Z
SUMMARY:Базы данных
LOCATION:50 уч.к 1110
END:VEVENT
BEGIN:VEVENT
UID:4gbr@192.168.245.71:3006
SEQUENCE:0
DTSTAMP:20260423T173124Z
DTSTART:20251209T153000Z
DTEND:20251209T170000Z
SUMMARY:Теория вероятностей и математическая статистика
LOCATION:DL Дистанционно
END:VEVENT
BEGIN:VEVENT
UID:iyz9@192.168.245.71:3006
SEQUENCE:0
DTSTAMP:20260423T173124Z
DTSTART:20251209T171500Z
DTEND:20251209T184500Z
SUMMARY:Теория вероятностей и математическая статистика
LOCATION:DL Дистанционно
END:VEVENT
BEGIN:VEVENT
UID:htlq@192.168.245.71:3006
SEQUENCE:0
DTSTAMP:20260423T173124Z
DTSTART:20251210T050000Z
DTEND:20251210T064000Z
SUMMARY:Информационные системы и технологии
LOCATION:50 уч.к 1107
END:VEVENT
BEGIN:VEVENT
UID:b361@192.168.245.71:3006
SEQUENCE:0
DTSTAMP:20260423T173124Z
DTSTART:20251210T070000Z
DTEND:20251210T084000Z
SUMMARY:Информационные системы и технологии
LOCATION:50 уч.к 1107
END:VEVENT
BEGIN:VEVENT
UID:73yr@192.168.245.71:3006
SEQUENCE:0
DTSTAMP:20260423T173124Z
DTSTART:20251210T090000Z
DTEND:20251210T104000Z
SUMMARY:Информационные системы и технологии
LOCATION:50 уч.к 1101
END:VEVENT
BEGIN:VEVENT
UID:wib0@192.168.245.71:3006
SEQUENCE:0
DTSTAMP:20260423T173124Z
DTSTART:20251210T110000Z
DTEND:20251210T124000Z
SUMMARY:Базы данных
LOCATION:50 уч.к 1110
END:VEVENT
BEGIN:VEVENT
UID:kl3h@192.168.245.71:3006
SEQUENCE:0
DTSTAMP:20260423T173124Z
DTSTART:20251211T070000Z
DTEND:20251211T084000Z
SUMMARY:Теория вероятностей и математическая статистика
LOCATION:3 к. 107
END:VEVENT
BEGIN:VEVENT
UID:6bn2@192.168.245.71:3006
SEQUENCE:0
DTSTAMP:20260423T173124Z
DTSTART:20251211T090000Z
DTEND:20251211T104000Z
SUMMARY:Теория вероятностей и математическая статистика
LOCATION:3 к. 506
END:VEVENT
BEGIN:VEVENT
UID:p89d@192.168.245.71:3006
SEQUENCE:0
DTSTAMP:20260423T173124Z
DTSTART:20251211T110000Z
DTEND:20251211T124000Z
SUMMARY:Теория вероятностей и математическая статистика
LOCATION:3 к. 205
END:VEVENT
BEGIN:VEVENT
UID:vcnc@192.168.245.71:3006
SEQUENCE:0
DTSTAMP:20260423T173124Z
DTSTART:20251211T130000Z
DTEND:20251211T144000Z
SUMMARY:Теория вероятностей и математическая статистика
LOCATION:3 к. 107
END:VEVENT
BEGIN:VEVENT
UID:ibtx@192.168.245.71:3006
SEQUENCE:0
DTSTAMP:20260423T173124Z
DTSTART:20251211T150000Z
DTEND:20251211T164000Z
SUMMARY:Теория вероятностей и математическая статистика
LOCATION:3 к. 110
END:VEVENT
BEGIN:VEVENT
UID:h9f0@192.168.245.71:3006
SEQUENCE:0
DTSTAMP:20260423T173124Z
DTSTART:20251212T050000Z
DTEND:20251212T064000Z
SUMMARY:Информационные системы и технологии
LOCATION:50 уч.к 1103
END:VEVENT
BEGIN:VEVENT
UID:mgjc@192.168.245.71:3006
SEQUENCE:0
DTSTAMP:20260423T173124Z
DTSTART:20251212T070000Z
DTEND:20251212T084000Z
SUMMARY:Информационные системы и технологии
LOCATION:50 уч.к 1103
END:VEVENT
BEGIN:VEVENT
UID:4ixk@192.168.245.71:3006
SEQUENCE:0
DTSTAMP:20260423T173124Z
DTSTART:20251212T090000Z
DTEND:20251212T104000Z
SUMMARY:Информационные системы и технологии
LOCATION:50 уч.к 1103
END:VEVENT
BEGIN:VEVENT
UID:ej6a@192.168.245.71:3006
SEQUENCE:0
DTSTAMP:20260423T173124Z
DTSTART:20251212T110000Z
DTEND:20251212T124000Z
SUMMARY:Информационные системы и технологии
LOCATION:50 уч.к 1103
END:VEVENT
BEGIN:VEVENT
UID:bitf@192.168.245.71:3006
SEQUENCE:0
DTSTAMP:20260423T173124Z
DTSTART:20251212T130000Z
DTEND:20251212T144000Z
SUMMARY:Информационные системы и технологии
LOCATION:50 уч.к 1208
END:VEVENT
BEGIN:VEVENT
UID:pzaz@192.168.245.71:3006
SEQUENCE:0
DTSTAMP:20260423T173124Z
DTSTART:20251213T070000Z
DTEND:20251213T084000Z
SUMMARY:Теория вероятностей и математическая статистика
LOCATION:3 к. 110
END:VEVENT
BEGIN:VEVENT
UID:cbg8@192.168.245.71:3006
SEQUENCE:0
DTSTAMP:20260423T173124Z
DTSTART:20251213T110000Z
DTEND:20251213T124000Z
SUMMARY:Теория вероятностей и математическая статистика
LOCATION:3 к. 216
END:VEVENT
BEGIN:VEVENT
UID:jpaq@192.168.245.71:3006
SEQUENCE:0
DTSTAMP:20260423T173124Z
DTSTART:20251213T130000Z
DTEND:20251213T144000Z
SUMMARY:Теория вероятностей и математическая статистика
LOCATION:3 к. 203
END:VEVENT
END:VCALENDAR