BEGIN:VCALENDAR
VERSION:2.0
PRODID:-//spbstu.ru//ical//RU
NAME:Расписание
X-WR-CALNAME:Расписание
TIMEZONE-ID:Europe/Moscow
X-WR-TIMEZONE:Europe/Moscow
BEGIN:VEVENT
UID:wzun@192.168.245.71:3006
SEQUENCE:0
DTSTAMP:20260422T002337Z
DTSTART:20260303T110000Z
DTEND:20260303T124000Z
SUMMARY:Теория вероятностей и математическая статистика
LOCATION:3 к. 103
END:VEVENT
BEGIN:VEVENT
UID:9ht6@192.168.245.71:3006
SEQUENCE:0
DTSTAMP:20260422T002337Z
DTSTART:20260304T070000Z
DTEND:20260304T084000Z
SUMMARY:Теория вероятностей и математическая статистика
LOCATION:3 к. 206
END:VEVENT
BEGIN:VEVENT
UID:g3cj@192.168.245.71:3006
SEQUENCE:0
DTSTAMP:20260422T002337Z
DTSTART:20260304T090000Z
DTEND:20260304T104000Z
SUMMARY:Теория вероятностей и математическая статистика
LOCATION:3 к. 102
END:VEVENT
BEGIN:VEVENT
UID:hw9q@192.168.245.71:3006
SEQUENCE:0
DTSTAMP:20260422T002337Z
DTSTART:20260305T050000Z
DTEND:20260305T064000Z
SUMMARY:Теория вероятностей и математическая статистика
LOCATION:3 к. 107
END:VEVENT
BEGIN:VEVENT
UID:xdb3@192.168.245.71:3006
SEQUENCE:0
DTSTAMP:20260422T002337Z
DTSTART:20260305T070000Z
DTEND:20260305T084000Z
SUMMARY:Инструментальные средства разработки технической документации
LOCATION:3 к. 105
END:VEVENT
BEGIN:VEVENT
UID:un4b@192.168.245.71:3006
SEQUENCE:0
DTSTAMP:20260422T002337Z
DTSTART:20260305T090000Z
DTEND:20260305T104000Z
SUMMARY:Инструментальные средства разработки технической документации
LOCATION:3 к. 105
END:VEVENT
BEGIN:VEVENT
UID:lzbw@192.168.245.71:3006
SEQUENCE:0
DTSTAMP:20260422T002337Z
DTSTART:20260305T110000Z
DTEND:20260305T124000Z
SUMMARY:Теория вероятностей и математическая статистика
LOCATION:3 к. 208
END:VEVENT
BEGIN:VEVENT
UID:dgfm@192.168.245.71:3006
SEQUENCE:0
DTSTAMP:20260422T002337Z
DTSTART:20260306T090000Z
DTEND:20260306T104000Z
SUMMARY:Теория вероятностей и математическая статистика
LOCATION:3 к. 211
END:VEVENT
BEGIN:VEVENT
UID:8m6m@192.168.245.71:3006
SEQUENCE:0
DTSTAMP:20260422T002337Z
DTSTART:20260306T153000Z
DTEND:20260306T170000Z
SUMMARY:Теория вероятностей и математическая статистика
LOCATION:DL Дистанционно
END:VEVENT
BEGIN:VEVENT
UID:gffm@192.168.245.71:3006
SEQUENCE:0
DTSTAMP:20260422T002337Z
DTSTART:20260306T171500Z
DTEND:20260306T184500Z
SUMMARY:Теория вероятностей и математическая статистика
LOCATION:DL Дистанционно
END:VEVENT
BEGIN:VEVENT
UID:unsa@192.168.245.71:3006
SEQUENCE:0
DTSTAMP:20260422T002337Z
DTSTART:20260307T070000Z
DTEND:20260307T084000Z
SUMMARY:Теория вероятностей и математическая статистика
LOCATION:3 к. 110
END:VEVENT
BEGIN:VEVENT
UID:yjd0@192.168.245.71:3006
SEQUENCE:0
DTSTAMP:20260422T002337Z
DTSTART:20260307T090000Z
DTEND:20260307T104000Z
SUMMARY:Инструментальные средства разработки технической документации
LOCATION:3 к. 217
END:VEVENT
END:VCALENDAR