BEGIN:VCALENDAR
VERSION:2.0
PRODID:-//spbstu.ru//ical//RU
NAME:Расписание
X-WR-CALNAME:Расписание
TIMEZONE-ID:Europe/Moscow
X-WR-TIMEZONE:Europe/Moscow
BEGIN:VEVENT
UID:i07s@192.168.245.71:3006
SEQUENCE:0
DTSTAMP:20260422T154607Z
DTSTART:20260602T130000Z
DTEND:20260602T144000Z
SUMMARY:Факультатив: Мобильный и электронный бизнес
LOCATION:50 уч.к 1211
END:VEVENT
BEGIN:VEVENT
UID:d9if@192.168.245.71:3006
SEQUENCE:0
DTSTAMP:20260422T154607Z
DTSTART:20260602T150000Z
DTEND:20260602T164000Z
SUMMARY:Мобильный и электронный бизнес
LOCATION:50 уч.к 1211
END:VEVENT
BEGIN:VEVENT
UID:mbsb@192.168.245.71:3006
SEQUENCE:0
DTSTAMP:20260422T154607Z
DTSTART:20260606T070000Z
DTEND:20260606T073000Z
SUMMARY:Факультатив: Мобильный и электронный бизнес
LOCATION:50 уч.к 1208
END:VEVENT
BEGIN:VEVENT
UID:wc31@192.168.245.71:3006
SEQUENCE:0
DTSTAMP:20260422T154607Z
DTSTART:20260606T073100Z
DTEND:20260606T084000Z
SUMMARY:Факультатив: Мобильный и электронный бизнес
LOCATION:50 уч.к 1208
END:VEVENT
BEGIN:VEVENT
UID:504v@192.168.245.71:3006
SEQUENCE:0
DTSTAMP:20260422T154607Z
DTSTART:20260606T090000Z
DTEND:20260606T093000Z
SUMMARY:Мобильный и электронный бизнес
LOCATION:50 уч.к 1208
END:VEVENT
BEGIN:VEVENT
UID:21rf@192.168.245.71:3006
SEQUENCE:0
DTSTAMP:20260422T154607Z
DTSTART:20260606T093100Z
DTEND:20260606T104000Z
SUMMARY:Мобильный и электронный бизнес
LOCATION:50 уч.к 1208
END:VEVENT
END:VCALENDAR