BEGIN:VCALENDAR
VERSION:2.0
PRODID:-//spbstu.ru//ical//RU
NAME:Расписание
X-WR-CALNAME:Расписание
TIMEZONE-ID:Europe/Moscow
X-WR-TIMEZONE:Europe/Moscow
BEGIN:VEVENT
UID:ql7f@192.168.245.71:3006
SEQUENCE:0
DTSTAMP:20260423T041515Z
DTSTART:20251107T130000Z
DTEND:20251107T144000Z
SUMMARY:Практика
LOCATION:ТВН ВШАиТЭ комп.кл.
END:VEVENT
END:VCALENDAR