BEGIN:VCALENDAR
VERSION:2.0
PRODID:-//spbstu.ru//ical//RU
NAME:Расписание
X-WR-CALNAME:Расписание
TIMEZONE-ID:Europe/Moscow
X-WR-TIMEZONE:Europe/Moscow
BEGIN:VEVENT
UID:ttzo@192.168.245.71:3006
SEQUENCE:0
DTSTAMP:20260421T233959Z
DTSTART:20260204T090000Z
DTEND:20260204T104000Z
SUMMARY:Режимы ПТУ
LOCATION:ГЗ 226
END:VEVENT
BEGIN:VEVENT
UID:pqwn@192.168.245.71:3006
SEQUENCE:0
DTSTAMP:20260421T233959Z
DTSTART:20260204T110000Z
DTEND:20260204T124000Z
SUMMARY:Режимы ПТУ
LOCATION:ГЗ 101
END:VEVENT
END:VCALENDAR